BEGIN:VCALENDAR
VERSION:2.0
PRODID:-//Beth Tzedec Congregation - ECPv6.15.17//NONSGML v1.0//EN
CALSCALE:GREGORIAN
METHOD:PUBLISH
X-ORIGINAL-URL:https://bethtzedec.ca
X-WR-CALDESC:Events for Beth Tzedec Congregation
REFRESH-INTERVAL;VALUE=DURATION:PT1H
X-Robots-Tag:noindex
X-PUBLISHED-TTL:PT1H
BEGIN:VTIMEZONE
TZID:America/Denver
BEGIN:DAYLIGHT
TZOFFSETFROM:-0700
TZOFFSETTO:-0600
TZNAME:MDT
DTSTART:20250309T090000
END:DAYLIGHT
BEGIN:STANDARD
TZOFFSETFROM:-0600
TZOFFSETTO:-0700
TZNAME:MST
DTSTART:20251102T080000
END:STANDARD
BEGIN:DAYLIGHT
TZOFFSETFROM:-0700
TZOFFSETTO:-0600
TZNAME:MDT
DTSTART:20260308T090000
END:DAYLIGHT
BEGIN:STANDARD
TZOFFSETFROM:-0600
TZOFFSETTO:-0700
TZNAME:MST
DTSTART:20261101T080000
END:STANDARD
BEGIN:DAYLIGHT
TZOFFSETFROM:-0700
TZOFFSETTO:-0600
TZNAME:MDT
DTSTART:20270314T090000
END:DAYLIGHT
BEGIN:STANDARD
TZOFFSETFROM:-0600
TZOFFSETTO:-0700
TZNAME:MST
DTSTART:20271107T080000
END:STANDARD
END:VTIMEZONE
BEGIN:VEVENT
DTSTART;TZID=America/Denver:20260201T103000
DTEND;TZID=America/Denver:20260201T114500
DTSTAMP:20260421T200916
CREATED:20260127T160931Z
LAST-MODIFIED:20260127T162037Z
UID:10001708-1769941800-1769946300@bethtzedec.ca
SUMMARY:CCCJ Exchange Visit at The Anglican Church of the Redeemer
DESCRIPTION:The Anglican Cathedral Church Of The Redeemer is inviting our congregants to visit and observe their Sunday morning service on February 1\, followed by refreshments and a Q&A. \nThis is a reciprocal invitation to their November visit to the Shabbat morning service at Beth Tzedec. Both events are part of a new program of church and synagogue exchanges initiated by the Calgary Council of Christians and Jews ( CCCJ). Kosher refreshments will be provided. \nPlease complete the form below to let us know you’re coming by Thursday\, January 29\, so that we can let our hosts know how many people to expect. \n\n\n                \n                        \n                            CCCJ Exchange Visit\n                             \n                        \n                        Name(Required)\n                            \n                            \n                                                    \n                                                    First\n                                                \n                            \n                            \n                                                    \n                                                    Last\n                                                \n                            \n                        Email(Required)\n                            \n                        How many attendees would you like to register?(Required)Please enter a number from 1 to 10.
URL:https://bethtzedec.ca/event/cccj-exchange-visit-at-the-anglican-church-of-the-redeemer/
LOCATION:The Cathedral Church of the Redeemer\, 604 1st Street SE\, Calgary\, Alberta\, T2G 4W4\, Canada
CATEGORIES:General Events
END:VEVENT
END:VCALENDAR