BEGIN:VCALENDAR
VERSION:2.0
PRODID:-//Beth Tzedec Congregation - ECPv6.15.17//NONSGML v1.0//EN
CALSCALE:GREGORIAN
METHOD:PUBLISH
X-ORIGINAL-URL:https://bethtzedec.ca
X-WR-CALDESC:Events for Beth Tzedec Congregation
REFRESH-INTERVAL;VALUE=DURATION:PT1H
X-Robots-Tag:noindex
X-PUBLISHED-TTL:PT1H
BEGIN:VTIMEZONE
TZID:America/Denver
BEGIN:DAYLIGHT
TZOFFSETFROM:-0700
TZOFFSETTO:-0600
TZNAME:MDT
DTSTART:20250309T090000
END:DAYLIGHT
BEGIN:STANDARD
TZOFFSETFROM:-0600
TZOFFSETTO:-0700
TZNAME:MST
DTSTART:20251102T080000
END:STANDARD
BEGIN:DAYLIGHT
TZOFFSETFROM:-0700
TZOFFSETTO:-0600
TZNAME:MDT
DTSTART:20260308T090000
END:DAYLIGHT
BEGIN:STANDARD
TZOFFSETFROM:-0600
TZOFFSETTO:-0700
TZNAME:MST
DTSTART:20261101T080000
END:STANDARD
BEGIN:DAYLIGHT
TZOFFSETFROM:-0700
TZOFFSETTO:-0600
TZNAME:MDT
DTSTART:20270314T090000
END:DAYLIGHT
BEGIN:STANDARD
TZOFFSETFROM:-0600
TZOFFSETTO:-0700
TZNAME:MST
DTSTART:20271107T080000
END:STANDARD
END:VTIMEZONE
BEGIN:VEVENT
DTSTART;TZID=America/Denver:20260412T103000
DTEND;TZID=America/Denver:20260412T113000
DTSTAMP:20260423T084250
CREATED:20250801T165243Z
LAST-MODIFIED:20260226T162319Z
UID:10001713-1775989800-1775993400@bethtzedec.ca
SUMMARY:Judaism 201
DESCRIPTION:Ready to go deeper in your Jewish learning? Judaism 201 is an adult education series with Rabbi Russ designed for those who want to explore the richness of our heritage and religious tradition. \nThis year’s program will guide learners through some of Judaism’s most fascinating texts and practices\, including Sefer Yetzirah (The Book of Formation)\, an introduction to Talmud\, Sefer Bahir (The Book of Illumination)\, and an introduction to Jewish prayer. Whether you’re looking to strengthen your knowledge\, engage with timeless wisdom\, or connect more deeply with Jewish life\, Judaism 201 offers a meaningful path forward. \nKindly register in advance so that we know you’re coming! \n\n\n                \n                        \n                            Judaism 201 Registration\n                             \n                        \n                        Name(Required)\n                            \n                            \n                                                    \n                                                    First\n                                                \n                            \n                            \n                                                    \n                                                    Last\n                                                \n                            \n                        Email(Required)\n                            \n                        Phone(Required)Are you a current Beth Tzedec member?(Required)\n			\n					\n					Yes\, my membership is current for the 2025-26 year.\n			\n			\n					\n					No\, I'm not a current Beth Tzedec member.\n			Non-Member Tuition\n					\n					\n						Price:\n						\n					\n					\n				There is NO CHARGE for members to participate in these exciting classes. But if Jewish learning is a priority to you\, please consider making an optional donation to help support programs like this at Beth Tzedec.(Required)\n			\n					\n					Yes\, I would like to help support educational programs at Beth Tzedec.\n			\n			\n					\n					Not today\, but maybe another time.\n			Thank you for your support! How much would you like to contribute?(Required)\n			\n					\n					$18\n			\n			\n					\n					$36\n			\n			\n					\n					$54\n			\n			\n					\n					I would like to choose my own contribution amount.\n			How much would you like to contribute?\n					\n				Total
URL:https://bethtzedec.ca/event/judaism-201-2/2026-04-12/
LOCATION:Beth Tzedec
CATEGORIES:General Events
END:VEVENT
BEGIN:VEVENT
DTSTART;TZID=America/Denver:20260413T193000
DTEND;TZID=America/Denver:20260413T213000
DTSTAMP:20260423T084250
CREATED:20260325T172735Z
LAST-MODIFIED:20260325T184348Z
UID:10001721-1776108600-1776115800@bethtzedec.ca
SUMMARY:Community Yom Hashoah Commemoration
DESCRIPTION:Following the commemorative service at the Paperny Family JCC\, join us for a meaningful and reflective community Yom HaShoah Commemoration as we come together to remember the six million Jews murdered in the Holocaust and to honour the resilience of survivors. \nThrough readings\, music\, and candle lighting\, we will create space for memory\, mourning\, and collective responsibility. This solemn gathering offers an opportunity to bear witness\, to ensure that the stories of those who perished are never forgotten\, and to reaffirm our commitment to combating hatred and antisemitism in all its forms. \nAll are welcome to attend as we stand together in remembrance and reflection.
URL:https://bethtzedec.ca/event/community-yom-hashoah-commemoration/
LOCATION:Beth Tzedec
CATEGORIES:General Events
END:VEVENT
BEGIN:VEVENT
DTSTART;TZID=America/Denver:20260417T173000
DTEND;TZID=America/Denver:20260417T203000
DTSTAMP:20260423T084250
CREATED:20260417T155117Z
LAST-MODIFIED:20260417T155117Z
UID:10001624-1776447000-1776457800@bethtzedec.ca
SUMMARY:Family Shabbat Dinner
DESCRIPTION:Bring your whole family together for an unforgettable Friday night filled with music\, laughter\, and community spirit! \nAt 5:30pm\, jump into an interactive Shabbat service with singing\, games\, and stories that will have kids (and grown-ups!) smiling from ear to ear. Then at 6:00pm\, we’ll gather around the table for a mouthwatering\, shul-cooked dinner—because Shabbat tastes better when we share it together. \nMore than a meal\, it’s a night of connection\, joy\, and Shabbat magic. \nRegistration for our April Dinner has now closed.
URL:https://bethtzedec.ca/event/family-shabbat-dinner-8/
LOCATION:Beth Tzedec
CATEGORIES:General Events
ATTACH;FMTTYPE=image/png:https://bethtzedec.ca/wp-content/uploads/2023/07/family-shabbat-dinner1.png
END:VEVENT
END:VCALENDAR