BEGIN:VCALENDAR
VERSION:2.0
PRODID:-//Beth Tzedec Congregation - ECPv6.15.17//NONSGML v1.0//EN
CALSCALE:GREGORIAN
METHOD:PUBLISH
X-ORIGINAL-URL:https://bethtzedec.ca
X-WR-CALDESC:Events for Beth Tzedec Congregation
REFRESH-INTERVAL;VALUE=DURATION:PT1H
X-Robots-Tag:noindex
X-PUBLISHED-TTL:PT1H
BEGIN:VTIMEZONE
TZID:America/Denver
BEGIN:DAYLIGHT
TZOFFSETFROM:-0700
TZOFFSETTO:-0600
TZNAME:MDT
DTSTART:20250309T090000
END:DAYLIGHT
BEGIN:STANDARD
TZOFFSETFROM:-0600
TZOFFSETTO:-0700
TZNAME:MST
DTSTART:20251102T080000
END:STANDARD
BEGIN:DAYLIGHT
TZOFFSETFROM:-0700
TZOFFSETTO:-0600
TZNAME:MDT
DTSTART:20260308T090000
END:DAYLIGHT
BEGIN:STANDARD
TZOFFSETFROM:-0600
TZOFFSETTO:-0700
TZNAME:MST
DTSTART:20261101T080000
END:STANDARD
BEGIN:DAYLIGHT
TZOFFSETFROM:-0700
TZOFFSETTO:-0600
TZNAME:MDT
DTSTART:20270314T090000
END:DAYLIGHT
BEGIN:STANDARD
TZOFFSETFROM:-0600
TZOFFSETTO:-0700
TZNAME:MST
DTSTART:20271107T080000
END:STANDARD
END:VTIMEZONE
BEGIN:VEVENT
DTSTART;TZID=America/Denver:20260402T173000
DTEND;TZID=America/Denver:20260402T203000
DTSTAMP:20260423T085417
CREATED:20260301T014634Z
LAST-MODIFIED:20260323T200015Z
UID:10001719-1775151000-1775161800@bethtzedec.ca
SUMMARY:Second Night Seder at Beth Tzedec
DESCRIPTION:Join us for a warm and welcoming Second Night Passover Seder with Beth Tzedec Congregation! Experience the story of the Exodus through tradition\, song\, and a delicious catered meal. Whether you’re celebrating with family or looking for a community to share the holiday\, all are welcome. \nRegistration for the Beth Tzedec Second Seder has now closed. For more information—or to see if we can squeeze you in—please contact Executive Director Jennifer Girvitz at jgirvitz@bethtzedec.ca.
URL:https://bethtzedec.ca/event/second-night-seder-at-beth-tzedec/
LOCATION:Beth Tzedec
CATEGORIES:General Events
ATTACH;FMTTYPE=image/png:https://bethtzedec.ca/wp-content/uploads/2026/02/second-seder6.png
END:VEVENT
END:VCALENDAR