BEGIN:VCALENDAR
VERSION:2.0
PRODID:-//Beth Tzedec Congregation - ECPv6.15.17//NONSGML v1.0//EN
CALSCALE:GREGORIAN
METHOD:PUBLISH
X-ORIGINAL-URL:https://bethtzedec.ca
X-WR-CALDESC:Events for Beth Tzedec Congregation
REFRESH-INTERVAL;VALUE=DURATION:PT1H
X-Robots-Tag:noindex
X-PUBLISHED-TTL:PT1H
BEGIN:VTIMEZONE
TZID:America/Denver
BEGIN:DAYLIGHT
TZOFFSETFROM:-0700
TZOFFSETTO:-0600
TZNAME:MDT
DTSTART:20250309T090000
END:DAYLIGHT
BEGIN:STANDARD
TZOFFSETFROM:-0600
TZOFFSETTO:-0700
TZNAME:MST
DTSTART:20251102T080000
END:STANDARD
BEGIN:DAYLIGHT
TZOFFSETFROM:-0700
TZOFFSETTO:-0600
TZNAME:MDT
DTSTART:20260308T090000
END:DAYLIGHT
BEGIN:STANDARD
TZOFFSETFROM:-0600
TZOFFSETTO:-0700
TZNAME:MST
DTSTART:20261101T080000
END:STANDARD
BEGIN:DAYLIGHT
TZOFFSETFROM:-0700
TZOFFSETTO:-0600
TZNAME:MDT
DTSTART:20270314T090000
END:DAYLIGHT
BEGIN:STANDARD
TZOFFSETFROM:-0600
TZOFFSETTO:-0700
TZNAME:MST
DTSTART:20271107T080000
END:STANDARD
END:VTIMEZONE
BEGIN:VEVENT
DTSTART;TZID=America/Denver:20260326T193000
DTEND;TZID=America/Denver:20260326T210000
DTSTAMP:20260423T103506
CREATED:20260227T213532Z
LAST-MODIFIED:20260227T213532Z
UID:10001718-1774553400-1774558800@bethtzedec.ca
SUMMARY:What’s Rabbi Reading? The Beth Tzedec Book Club
DESCRIPTION:Join us each month at Masala Art for lively conversation\, good company\, and great food as we explore Jewish literature together. The Beth Tzedec Book Club is open to all who love reading and discussing stories\, history\, and ideas through a Jewish lens. \nIn March\, we’ll be reading The Madwoman in the Rabbi’s Attic: Rereading the Women of the Talmud by Gila Fine. \nWhile women in the Talmud are often marginal and unnamed\, Fine focuses on six named heroines—Yalta\, Homa\, Marta\, Heruta\, Beruria\, and Ima Shalom—who seem to embody familiar antifeminist archetypes. Through close\, literary rereading\, she reveals far more complex characters and uncovers surprisingly nuanced rabbinic perspectives on marriage\, intimacy\, and women’s lives. In the process\, Fine challenges us to rethink not only these ancient stories\, but also how we read texts—and how we see one another. \n\n\n                \n                        \n                            Book Club Registration\n                            Please register once for each session you plan to join. \n                        \n                        Name(Required)\n                            \n                            \n                                                    \n                                                    First\n                                                \n                            \n                            \n                                                    \n                                                    Last\n                                                \n                            \n                        Email(Required)\n                            \n                        Phone(Required)There is NO CHARGE to join Beth Tzedec's Book Club. But if Jewish learning is a priority to you\, please consider making an optional donation to help support programs like this at Beth Tzedec.(Required)\n			\n					\n					Yes\, I would like to help support learning programs at Beth Tzedec.\n			\n			\n					\n					Not today\, but maybe another time.\n			Thank you for your support! How much would you like to contribute?(Required)\n			\n					\n					$18\n			\n			\n					\n					$36\n			\n			\n					\n					$54\n			\n			\n					\n					I would like to choose my own contribution amount.\n			Price(Required)
URL:https://bethtzedec.ca/event/whats-rabbi-reading-the-beth-tzedec-book-club-5/
LOCATION:Masala Art\, 2515 90 Ave SW #123\, Calgary\, Alberta\, T2V 0L7\, Canada
CATEGORIES:General Events
END:VEVENT
BEGIN:VEVENT
DTSTART;TZID=America/Denver:20260327T173000
DTEND;TZID=America/Denver:20260327T203000
DTSTAMP:20260423T103506
CREATED:20260327T181932Z
LAST-MODIFIED:20260327T181932Z
UID:10001623-1774632600-1774643400@bethtzedec.ca
SUMMARY:Family Shabbat Dinner
DESCRIPTION:Bring your whole family together for an unforgettable Friday night filled with music\, laughter\, and community spirit! \nAt 5:30pm\, jump into an interactive Shabbat service with singing\, games\, and stories that will have kids (and grown-ups!) smiling from ear to ear. Then at 6:00pm\, we’ll gather around the table for a mouthwatering\, shul-cooked dinner—because Shabbat tastes better when we share it together. \nMore than a meal\, it’s a night of connection\, joy\, and Shabbat magic. \nRegistration for our March dinner has now closed. We’ll see you in April!
URL:https://bethtzedec.ca/event/family-shabbat-dinner-7/
LOCATION:Beth Tzedec
CATEGORIES:General Events
ATTACH;FMTTYPE=image/png:https://bethtzedec.ca/wp-content/uploads/2023/07/family-shabbat-dinner1.png
END:VEVENT
END:VCALENDAR