BEGIN:VCALENDAR
VERSION:2.0
PRODID:-//Beth Tzedec Congregation - ECPv6.15.17//NONSGML v1.0//EN
CALSCALE:GREGORIAN
METHOD:PUBLISH
X-ORIGINAL-URL:https://bethtzedec.ca
X-WR-CALDESC:Events for Beth Tzedec Congregation
REFRESH-INTERVAL;VALUE=DURATION:PT1H
X-Robots-Tag:noindex
X-PUBLISHED-TTL:PT1H
BEGIN:VTIMEZONE
TZID:America/Denver
BEGIN:DAYLIGHT
TZOFFSETFROM:-0700
TZOFFSETTO:-0600
TZNAME:MDT
DTSTART:20250309T090000
END:DAYLIGHT
BEGIN:STANDARD
TZOFFSETFROM:-0600
TZOFFSETTO:-0700
TZNAME:MST
DTSTART:20251102T080000
END:STANDARD
BEGIN:DAYLIGHT
TZOFFSETFROM:-0700
TZOFFSETTO:-0600
TZNAME:MDT
DTSTART:20260308T090000
END:DAYLIGHT
BEGIN:STANDARD
TZOFFSETFROM:-0600
TZOFFSETTO:-0700
TZNAME:MST
DTSTART:20261101T080000
END:STANDARD
BEGIN:DAYLIGHT
TZOFFSETFROM:-0700
TZOFFSETTO:-0600
TZNAME:MDT
DTSTART:20270314T090000
END:DAYLIGHT
BEGIN:STANDARD
TZOFFSETFROM:-0600
TZOFFSETTO:-0700
TZNAME:MST
DTSTART:20271107T080000
END:STANDARD
END:VTIMEZONE
BEGIN:VEVENT
DTSTART;TZID=America/Denver:20260308T103000
DTEND;TZID=America/Denver:20260308T113000
DTSTAMP:20260423T121059
CREATED:20250801T165243Z
LAST-MODIFIED:20260226T162319Z
UID:10001712-1772965800-1772969400@bethtzedec.ca
SUMMARY:Judaism 201
DESCRIPTION:Ready to go deeper in your Jewish learning? Judaism 201 is an adult education series with Rabbi Russ designed for those who want to explore the richness of our heritage and religious tradition. \nThis year’s program will guide learners through some of Judaism’s most fascinating texts and practices\, including Sefer Yetzirah (The Book of Formation)\, an introduction to Talmud\, Sefer Bahir (The Book of Illumination)\, and an introduction to Jewish prayer. Whether you’re looking to strengthen your knowledge\, engage with timeless wisdom\, or connect more deeply with Jewish life\, Judaism 201 offers a meaningful path forward. \nKindly register in advance so that we know you’re coming! \n\n\n                \n                        \n                            Judaism 201 Registration\n                             \n                        \n                        Name(Required)\n                            \n                            \n                                                    \n                                                    First\n                                                \n                            \n                            \n                                                    \n                                                    Last\n                                                \n                            \n                        Email(Required)\n                            \n                        Phone(Required)Are you a current Beth Tzedec member?(Required)\n			\n					\n					Yes\, my membership is current for the 2025-26 year.\n			\n			\n					\n					No\, I'm not a current Beth Tzedec member.\n			Non-Member Tuition\n					\n					\n						Price:\n						\n					\n					\n				There is NO CHARGE for members to participate in these exciting classes. But if Jewish learning is a priority to you\, please consider making an optional donation to help support programs like this at Beth Tzedec.(Required)\n			\n					\n					Yes\, I would like to help support educational programs at Beth Tzedec.\n			\n			\n					\n					Not today\, but maybe another time.\n			Thank you for your support! How much would you like to contribute?(Required)\n			\n					\n					$18\n			\n			\n					\n					$36\n			\n			\n					\n					$54\n			\n			\n					\n					I would like to choose my own contribution amount.\n			How much would you like to contribute?\n					\n				Total
URL:https://bethtzedec.ca/event/judaism-201-2/2026-03-08/
LOCATION:Beth Tzedec
CATEGORIES:General Events
END:VEVENT
BEGIN:VEVENT
DTSTART;TZID=America/Denver:20260312T120000
DTEND;TZID=America/Denver:20260312T140000
DTSTAMP:20260423T121059
CREATED:20260226T154616Z
LAST-MODIFIED:20260226T161858Z
UID:10001717-1773316800-1773324000@bethtzedec.ca
SUMMARY:Hazak Lunch & Learn: Exhibiting Remembrance
DESCRIPTION:At our March Hazak Lunch & Learn\, Brandon Hearty will draw on his experience developing two major exhibitions—Violins of Hope and One Thread\, Six Million Lives—to explore how history\, memory\, and material culture come together in public storytelling. Brandon will reflect on the research\, creative choices\, and ethical responsibilities involved in translating Holocaust history into accessible\, meaningful exhibitions\, while expanding on the themes and stories presented in each. Join us for a thoughtful conversation about remembrance\, education\, and the power of exhibitions to foster understanding and community. \nAbout the Speaker \nBrandon Hearty is a Calgary-based cultural professional and community volunteer with a strong commitment to Holocaust remembrance\, education\, and civic engagement. He holds a Bachelor of Fine Arts from Brigham Young University and a Master of Fine Arts from the University of Calgary. His academic training in the arts has equipped him with a broad skill set grounded in research\, visual storytelling\, and public engagement. \nHe first became involved with Calgary’s Jewish community two years ago through the Violins of Hope exhibit at the National Music Centre\, where he served as Manager of Exhibition Development. Now working at Contemporary Calgary\, Brandon continues to volunteer his time and talents in service of the community motivated by a commitment to collective memory and education. Most recently\, he played a key role in producing the One Thread\, Six Million Lives exhibit at the Central Library in honour of International Holocaust Remembrance Day. \n\n                \n                        \n                            Hazak Lunch & Learn\n                             \n                        \n                        Name(Required)\n                            \n                            \n                                                    \n                                                    First\n                                                \n                            \n                            \n                                                    \n                                                    Last\n                                                \n                            \n                        Email(Required)\n                            \n                        PhoneWhich session are you registering for?Thursday\, May 7 — Sahbra Anna MarkusWe're always looking for new speakers who want to teach us about their work or passions. Is there anyone you think we should reach out to for an upcoming session?\nHow many CONGREGANTS would you like to register for our Lunch & Learn? Quantity\n					\n					\n						Price:\n						$ 15.00 CAD\n					\n					\n					 Quantity \n				Please share the name(s) of each CONGREGANT that you are registering.\nHow many GUESTS would you like to register for our Lunch & Learn? Quantity\n					\n					\n						Price:\n						$ 20.00 CAD\n					\n					\n					 Quantity \n				Please share the name(s) of each GUEST that you are registering.\nNot up for lunch? How many people would you like to register just to LEARN? Quantity\n					\n					\n						Price:\n						$ 5.00 CAD\n					\n					\n					 Quantity \n				All attendees are welcome to join us for drinks and desserts.Please share the name(s) of each person that you are registering for Just Learning (with beverages and dessert).\nDoes anyone in your party have dietary or allergy concerns that we should know about?\nIf learning programs like this are important to you\, please consider making a contribution to support similar initiatives at Beth Tzedec.\n			\n					\n					Yes\, I would like to make a contribution to support learning programs at Beth Tzedec.\n			\n			\n					\n					Not today\, but maybe another time.\n			Thank you for your support! How much would you like to contribute?\n			\n					\n					$18\n			\n			\n					\n					$36\n			\n			\n					\n					$54\n			\n			\n					\n					I would like to choose my own contribution amount.\n			How much would you like to contribute?\n					\n				Total
URL:https://bethtzedec.ca/event/hazak-lunch-learn-exhibiting-remembrance/
LOCATION:Beth Tzedec
CATEGORIES:General Events
END:VEVENT
END:VCALENDAR