BEGIN:VCALENDAR
VERSION:2.0
PRODID:-//Beth Tzedec Congregation - ECPv6.15.17//NONSGML v1.0//EN
CALSCALE:GREGORIAN
METHOD:PUBLISH
X-ORIGINAL-URL:https://bethtzedec.ca
X-WR-CALDESC:Events for Beth Tzedec Congregation
REFRESH-INTERVAL;VALUE=DURATION:PT1H
X-Robots-Tag:noindex
X-PUBLISHED-TTL:PT1H
BEGIN:VTIMEZONE
TZID:America/Denver
BEGIN:DAYLIGHT
TZOFFSETFROM:-0700
TZOFFSETTO:-0600
TZNAME:MDT
DTSTART:20250309T090000
END:DAYLIGHT
BEGIN:STANDARD
TZOFFSETFROM:-0600
TZOFFSETTO:-0700
TZNAME:MST
DTSTART:20251102T080000
END:STANDARD
BEGIN:DAYLIGHT
TZOFFSETFROM:-0700
TZOFFSETTO:-0600
TZNAME:MDT
DTSTART:20260308T090000
END:DAYLIGHT
BEGIN:STANDARD
TZOFFSETFROM:-0600
TZOFFSETTO:-0700
TZNAME:MST
DTSTART:20261101T080000
END:STANDARD
BEGIN:DAYLIGHT
TZOFFSETFROM:-0700
TZOFFSETTO:-0600
TZNAME:MDT
DTSTART:20270314T090000
END:DAYLIGHT
BEGIN:STANDARD
TZOFFSETFROM:-0600
TZOFFSETTO:-0700
TZNAME:MST
DTSTART:20271107T080000
END:STANDARD
END:VTIMEZONE
BEGIN:VEVENT
DTSTART;TZID=America/Denver:20260223T170000
DTEND;TZID=America/Denver:20260223T180000
DTSTAMP:20260423T150409
CREATED:20250801T165243Z
LAST-MODIFIED:20260226T162319Z
UID:10001607-1771866000-1771869600@bethtzedec.ca
SUMMARY:Judaism 201
DESCRIPTION:Ready to go deeper in your Jewish learning? Judaism 201 is an adult education series with Rabbi Russ designed for those who want to explore the richness of our heritage and religious tradition. \nThis year’s program will guide learners through some of Judaism’s most fascinating texts and practices\, including Sefer Yetzirah (The Book of Formation)\, an introduction to Talmud\, Sefer Bahir (The Book of Illumination)\, and an introduction to Jewish prayer. Whether you’re looking to strengthen your knowledge\, engage with timeless wisdom\, or connect more deeply with Jewish life\, Judaism 201 offers a meaningful path forward. \nKindly register in advance so that we know you’re coming! \n\n\n                \n                        \n                            Judaism 201 Registration\n                             \n                        \n                        Name(Required)\n                            \n                            \n                                                    \n                                                    First\n                                                \n                            \n                            \n                                                    \n                                                    Last\n                                                \n                            \n                        Email(Required)\n                            \n                        Phone(Required)Are you a current Beth Tzedec member?(Required)\n			\n					\n					Yes\, my membership is current for the 2025-26 year.\n			\n			\n					\n					No\, I'm not a current Beth Tzedec member.\n			Non-Member Tuition\n					\n					\n						Price:\n						\n					\n					\n				There is NO CHARGE for members to participate in these exciting classes. But if Jewish learning is a priority to you\, please consider making an optional donation to help support programs like this at Beth Tzedec.(Required)\n			\n					\n					Yes\, I would like to help support educational programs at Beth Tzedec.\n			\n			\n					\n					Not today\, but maybe another time.\n			Thank you for your support! How much would you like to contribute?(Required)\n			\n					\n					$18\n			\n			\n					\n					$36\n			\n			\n					\n					$54\n			\n			\n					\n					I would like to choose my own contribution amount.\n			How much would you like to contribute?\n					\n				Total
URL:https://bethtzedec.ca/event/judaism-201-2/2026-02-23/
LOCATION:Beth Tzedec
CATEGORIES:General Events
END:VEVENT
BEGIN:VEVENT
DTSTART;TZID=America/Denver:20260225T190000
DTEND;TZID=America/Denver:20260225T210000
DTSTAMP:20260423T150409
CREATED:20260105T190829Z
LAST-MODIFIED:20260105T203011Z
UID:10001706-1772046000-1772053200@bethtzedec.ca
SUMMARY:Guided by Hope: An Evening with the Israel Guide Dog Center
DESCRIPTION:On February 25\, join us for a powerful and deeply moving evening with the Israel Guide Dog Center. \nThe program will feature Noach Braun\, Founder and Co-CEO of the Israel Guide Dog Center\, who will share the story of how the organization has transformed independence and dignity for Israelis living with vision loss\, PTSD\, and other disabilities for more than three decades. \nJoining him is Naveh\, an IDF veteran living with PTSD\, alongside his service dog Jack. Naveh will speak candidly about his journey\, the realities of trauma after military service\, and the profound role Jack plays in his daily life—providing grounding\, confidence\, and the ability to re-engage with the world. \nTogether\, their stories offer a rare and compelling look at resilience\, partnership\, and healing\, and at how specially trained service dogs are changing lives in Israel\, especially in the aftermath of ongoing conflict. \nClick here to register.
URL:https://bethtzedec.ca/event/guided-by-hope-an-evening-with-the-israel-guide-dog-center/
LOCATION:Beth Tzedec
CATEGORIES:General Events
END:VEVENT
BEGIN:VEVENT
DTSTART;TZID=America/Denver:20260226T193000
DTEND;TZID=America/Denver:20260226T210000
DTSTAMP:20260423T150409
CREATED:20251211T151336Z
LAST-MODIFIED:20251211T151336Z
UID:10001700-1772134200-1772139600@bethtzedec.ca
SUMMARY:What’s Rabbi Reading? The Beth Tzedec Book Club
DESCRIPTION:Join us each month at Masala Art for lively conversation\, good company\, and great food as we explore Jewish literature together. The Beth Tzedec Book Club is open to all who love reading and discussing stories\, history\, and ideas through a Jewish lens. \nIn February\, we’ll be reading Melting Point by Rachel Cockerell. This non-fiction narrative uncovers the little-known story of the Galveston Plan\, a bold early-20th-century effort that brought thousands of Russian Jews to the Texas Gulf Coast in search of safety and a new beginning. Through diaries\, letters\, and other firsthand accounts\, Rachel Cockerell reconstructs this remarkable migration—led in part by her own great-grandfather—and follows the families whose lives intertwined with major figures of the era. \nInventive and deeply human\, the book explores questions of belonging\, identity\, and what it truly means to seek a promised land. \n\n                \n                        \n                            Book Club Registration\n                            Please register once for each session you plan to join. \n                        \n                        Name(Required)\n                            \n                            \n                                                    \n                                                    First\n                                                \n                            \n                            \n                                                    \n                                                    Last\n                                                \n                            \n                        Email(Required)\n                            \n                        Phone(Required)There is NO CHARGE to join Beth Tzedec's Book Club. But if Jewish learning is a priority to you\, please consider making an optional donation to help support programs like this at Beth Tzedec.(Required)\n			\n					\n					Yes\, I would like to help support learning programs at Beth Tzedec.\n			\n			\n					\n					Not today\, but maybe another time.\n			Thank you for your support! How much would you like to contribute?(Required)\n			\n					\n					$18\n			\n			\n					\n					$36\n			\n			\n					\n					$54\n			\n			\n					\n					I would like to choose my own contribution amount.\n			Price(Required)
URL:https://bethtzedec.ca/event/whats-rabbi-reading-the-beth-tzedec-book-club-4/
LOCATION:Masala Art\, 2515 90 Ave SW #123\, Calgary\, Alberta\, T2V 0L7\, Canada
CATEGORIES:General Events
END:VEVENT
END:VCALENDAR