BEGIN:VCALENDAR
VERSION:2.0
PRODID:-//Beth Tzedec Congregation - ECPv6.15.17//NONSGML v1.0//EN
CALSCALE:GREGORIAN
METHOD:PUBLISH
X-ORIGINAL-URL:https://bethtzedec.ca
X-WR-CALDESC:Events for Beth Tzedec Congregation
REFRESH-INTERVAL;VALUE=DURATION:PT1H
X-Robots-Tag:noindex
X-PUBLISHED-TTL:PT1H
BEGIN:VTIMEZONE
TZID:America/Denver
BEGIN:DAYLIGHT
TZOFFSETFROM:-0700
TZOFFSETTO:-0600
TZNAME:MDT
DTSTART:20250309T090000
END:DAYLIGHT
BEGIN:STANDARD
TZOFFSETFROM:-0600
TZOFFSETTO:-0700
TZNAME:MST
DTSTART:20251102T080000
END:STANDARD
BEGIN:DAYLIGHT
TZOFFSETFROM:-0700
TZOFFSETTO:-0600
TZNAME:MDT
DTSTART:20260308T090000
END:DAYLIGHT
BEGIN:STANDARD
TZOFFSETFROM:-0600
TZOFFSETTO:-0700
TZNAME:MST
DTSTART:20261101T080000
END:STANDARD
BEGIN:DAYLIGHT
TZOFFSETFROM:-0700
TZOFFSETTO:-0600
TZNAME:MDT
DTSTART:20270314T090000
END:DAYLIGHT
BEGIN:STANDARD
TZOFFSETFROM:-0600
TZOFFSETTO:-0700
TZNAME:MST
DTSTART:20271107T080000
END:STANDARD
END:VTIMEZONE
BEGIN:VEVENT
DTSTART;TZID=America/Denver:20260126T170000
DTEND;TZID=America/Denver:20260126T180000
DTSTAMP:20260423T140058
CREATED:20250801T165243Z
LAST-MODIFIED:20260226T162319Z
UID:10001604-1769446800-1769450400@bethtzedec.ca
SUMMARY:Judaism 201
DESCRIPTION:Ready to go deeper in your Jewish learning? Judaism 201 is an adult education series with Rabbi Russ designed for those who want to explore the richness of our heritage and religious tradition. \nThis year’s program will guide learners through some of Judaism’s most fascinating texts and practices\, including Sefer Yetzirah (The Book of Formation)\, an introduction to Talmud\, Sefer Bahir (The Book of Illumination)\, and an introduction to Jewish prayer. Whether you’re looking to strengthen your knowledge\, engage with timeless wisdom\, or connect more deeply with Jewish life\, Judaism 201 offers a meaningful path forward. \nKindly register in advance so that we know you’re coming! \n\n\n                \n                        \n                            Judaism 201 Registration\n                             \n                        \n                        Name(Required)\n                            \n                            \n                                                    \n                                                    First\n                                                \n                            \n                            \n                                                    \n                                                    Last\n                                                \n                            \n                        Email(Required)\n                            \n                        Phone(Required)Are you a current Beth Tzedec member?(Required)\n			\n					\n					Yes\, my membership is current for the 2025-26 year.\n			\n			\n					\n					No\, I'm not a current Beth Tzedec member.\n			Non-Member Tuition\n					\n					\n						Price:\n						\n					\n					\n				There is NO CHARGE for members to participate in these exciting classes. But if Jewish learning is a priority to you\, please consider making an optional donation to help support programs like this at Beth Tzedec.(Required)\n			\n					\n					Yes\, I would like to help support educational programs at Beth Tzedec.\n			\n			\n					\n					Not today\, but maybe another time.\n			Thank you for your support! How much would you like to contribute?(Required)\n			\n					\n					$18\n			\n			\n					\n					$36\n			\n			\n					\n					$54\n			\n			\n					\n					I would like to choose my own contribution amount.\n			How much would you like to contribute?\n					\n				Total
URL:https://bethtzedec.ca/event/judaism-201-2/2026-01-26/
LOCATION:Beth Tzedec
CATEGORIES:General Events
END:VEVENT
BEGIN:VEVENT
DTSTART;TZID=America/Denver:20260129T193000
DTEND;TZID=America/Denver:20260129T210000
DTSTAMP:20260423T140058
CREATED:20251211T145939Z
LAST-MODIFIED:20251211T151542Z
UID:10001699-1769715000-1769720400@bethtzedec.ca
SUMMARY:What’s Rabbi Reading? The Beth Tzedec Book Club
DESCRIPTION:Join us each month at Masala Art for lively conversation\, good company\, and great food as we explore Jewish literature together. The Beth Tzedec Book Club is open to all who love reading and discussing stories\, history\, and ideas through a Jewish lens. \nThis January\, we’ll be reading The Safekeep by Yael van der Wouden. Set in rural Holland in 1961\, the novel follows Isabel\, whose orderly life is disrupted when her brother’s unpredictable girlfriend\, Eva\, comes to stay. As household items begin to vanish\, Isabel’s irritation turns into obsession\, blurring the lines between suspicion and desire. \nA tense\, atmospheric story about control\, buried history\, and the unsettling secrets that surface when two very different women are forced under one roof. \nWant to read ahead? At our February meeting\, we’ll be discussing Melting Point by Rachel Cockerell. \n\n                \n                        \n                            Book Club Registration\n                            Please register once for each session you plan to join. \n                        \n                        Name(Required)\n                            \n                            \n                                                    \n                                                    First\n                                                \n                            \n                            \n                                                    \n                                                    Last\n                                                \n                            \n                        Email(Required)\n                            \n                        Phone(Required)There is NO CHARGE to join Beth Tzedec's Book Club. But if Jewish learning is a priority to you\, please consider making an optional donation to help support programs like this at Beth Tzedec.(Required)\n			\n					\n					Yes\, I would like to help support learning programs at Beth Tzedec.\n			\n			\n					\n					Not today\, but maybe another time.\n			Thank you for your support! How much would you like to contribute?(Required)\n			\n					\n					$18\n			\n			\n					\n					$36\n			\n			\n					\n					$54\n			\n			\n					\n					I would like to choose my own contribution amount.\n			Price(Required)
URL:https://bethtzedec.ca/event/whats-rabbi-reading-the-beth-tzedec-book-club-3/
LOCATION:Masala Art\, 2515 90 Ave SW #123\, Calgary\, Alberta\, T2V 0L7\, Canada
CATEGORIES:General Events
END:VEVENT
BEGIN:VEVENT
DTSTART;TZID=America/Denver:20260131T163000
DTEND;TZID=America/Denver:20260131T183000
DTSTAMP:20260423T140058
CREATED:20251020T154853Z
LAST-MODIFIED:20251020T155359Z
UID:10001691-1769877000-1769884200@bethtzedec.ca
SUMMARY:Seudah Shelishit: Exploring Pirkei DeRabbi Eliezer
DESCRIPTION:Pirkei De-Rabbi Eliezer (The Chapters of Rabbi Eliezer) is one of the most imaginative and wide-ranging works of rabbinic literature—a Talmudic-era collection of midrashim that retells and expands upon the Torah’s stories\, from the creation of the world to Miriam’s leprosy in the Book of Numbers. Within its pages you’ll find Jewish ethics\, ancient customs\, legends\, and even mystical calculations about the beginning and the end of time. Traditionally attributed to Rabbi Eliezer ben Hyrcanus\, a 2nd-century sage\, the text was likely compiled in the eighth or ninth century. \nJoin Rabbi Russ for a fascinating journey through this remarkable work—a tapestry of storytelling\, interpretation\, and spiritual imagination. Together\, we’ll explore how Pirkei De-Rabbi Eliezer reshapes familiar biblical narratives\, connects them to enduring Jewish values\, and invites us to see Torah through a lens of creativity and wonder. \nEach session will combine close reading with lively discussion\, making the class accessible to both newcomers and seasoned learners. \nCome discover why Pirkei De-Rabbi Eliezer has captivated readers for centuries—and how its timeless insights continue to inspire and challenge us today. \nRegistration not required\, but appreciated. \n\n                \n                        \n                            Seudah Shelishit Registration Form\n                            Please use this form to register for the entire course. \n                        \n                        Name(Required)\n                            \n                            \n                                                    \n                                                    First\n                                                \n                            \n                            \n                                                    \n                                                    Last\n                                                \n                            \n                        Email(Required)\n                            \n                        PhoneHow many attendees would you like to register? Quantity\n					\n					\n						Price:\n						$ 0.00 CAD\n					\n					\n					 Quantity \n				Please list the names of everyone you are registering for this program.(Required)\n								\n								Are you interested in sponsoring an upcoming seudah? If so\, check this box and someone from our office will be in touch.\n							There is NO CHARGE to participate in our Seudah Shelishit learning program. But if programs like this are a priority for you\, please consider making a donation to support similar initiatives in the future.(Required)\n			\n					\n					Yes\, I would like to make a contribution to support Beth Tzedec.\n			\n			\n					\n					Not today\, but maybe another time.\n			Thank you for your support! How much would you like to contribute?(Required)\n			\n					\n					$18\n			\n			\n					\n					$36\n			\n			\n					\n					$54\n			\n			\n					\n					I would like to choose my own amount.\n			How much would you like to contribute?\n					\n				Total
URL:https://bethtzedec.ca/event/seudah-shelishit-exploring-pirkei-derabbi-eliezer/2026-01-31/
LOCATION:Beth Tzedec
CATEGORIES:General Events
END:VEVENT
BEGIN:VEVENT
DTSTART;TZID=America/Denver:20260131T180000
DTEND;TZID=America/Denver:20260131T210000
DTSTAMP:20260423T140058
CREATED:20251226T190214Z
LAST-MODIFIED:20260105T182119Z
UID:10001705-1769882400-1769893200@bethtzedec.ca
SUMMARY:Wicks & Flicks with PJ Library
DESCRIPTION:Our popular Havdalah movie night is back\, in partnership with PJ Library! Families are invited to join us for popcorn and a cozy pyjama party as we celebrate the beginning of a new week together. \nThis time\, we’ll be watching An American Tail\, the beloved animated classic about Fievel Mousekewitz\, a young Jewish mouse who immigrates with his family to America in search of freedom and safety. When Fievel is separated from his parents upon arrival in New York\, he embarks on an adventurous journey through the city\, making new friends and discovering courage\, hope\, and the meaning of home. \nA warm and meaningful story of resilience\, belonging\, and new beginnings—perfect for a Havdalah night with families. Click here to register.
URL:https://bethtzedec.ca/event/wix-n-flix-with-pj-library/
LOCATION:Beth Tzedec
CATEGORIES:General Events
END:VEVENT
END:VCALENDAR