BEGIN:VCALENDAR
VERSION:2.0
PRODID:-//Beth Tzedec Congregation - ECPv6.15.17//NONSGML v1.0//EN
CALSCALE:GREGORIAN
METHOD:PUBLISH
X-ORIGINAL-URL:https://bethtzedec.ca
X-WR-CALDESC:Events for Beth Tzedec Congregation
REFRESH-INTERVAL;VALUE=DURATION:PT1H
X-Robots-Tag:noindex
X-PUBLISHED-TTL:PT1H
BEGIN:VTIMEZONE
TZID:America/Denver
BEGIN:DAYLIGHT
TZOFFSETFROM:-0700
TZOFFSETTO:-0600
TZNAME:MDT
DTSTART:20250309T090000
END:DAYLIGHT
BEGIN:STANDARD
TZOFFSETFROM:-0600
TZOFFSETTO:-0700
TZNAME:MST
DTSTART:20251102T080000
END:STANDARD
BEGIN:DAYLIGHT
TZOFFSETFROM:-0700
TZOFFSETTO:-0600
TZNAME:MDT
DTSTART:20260308T090000
END:DAYLIGHT
BEGIN:STANDARD
TZOFFSETFROM:-0600
TZOFFSETTO:-0700
TZNAME:MST
DTSTART:20261101T080000
END:STANDARD
BEGIN:DAYLIGHT
TZOFFSETFROM:-0700
TZOFFSETTO:-0600
TZNAME:MDT
DTSTART:20270314T090000
END:DAYLIGHT
BEGIN:STANDARD
TZOFFSETFROM:-0600
TZOFFSETTO:-0700
TZNAME:MST
DTSTART:20271107T080000
END:STANDARD
END:VTIMEZONE
BEGIN:VEVENT
DTSTART;TZID=America/Denver:20260119T170000
DTEND;TZID=America/Denver:20260119T180000
DTSTAMP:20260423T153404
CREATED:20250801T165243Z
LAST-MODIFIED:20260226T162319Z
UID:10001603-1768842000-1768845600@bethtzedec.ca
SUMMARY:Judaism 201
DESCRIPTION:Ready to go deeper in your Jewish learning? Judaism 201 is an adult education series with Rabbi Russ designed for those who want to explore the richness of our heritage and religious tradition. \nThis year’s program will guide learners through some of Judaism’s most fascinating texts and practices\, including Sefer Yetzirah (The Book of Formation)\, an introduction to Talmud\, Sefer Bahir (The Book of Illumination)\, and an introduction to Jewish prayer. Whether you’re looking to strengthen your knowledge\, engage with timeless wisdom\, or connect more deeply with Jewish life\, Judaism 201 offers a meaningful path forward. \nKindly register in advance so that we know you’re coming! \n\n\n                \n                        \n                            Judaism 201 Registration\n                             \n                        \n                        Name(Required)\n                            \n                            \n                                                    \n                                                    First\n                                                \n                            \n                            \n                                                    \n                                                    Last\n                                                \n                            \n                        Email(Required)\n                            \n                        Phone(Required)Are you a current Beth Tzedec member?(Required)\n			\n					\n					Yes\, my membership is current for the 2025-26 year.\n			\n			\n					\n					No\, I'm not a current Beth Tzedec member.\n			Non-Member Tuition\n					\n					\n						Price:\n						\n					\n					\n				There is NO CHARGE for members to participate in these exciting classes. But if Jewish learning is a priority to you\, please consider making an optional donation to help support programs like this at Beth Tzedec.(Required)\n			\n					\n					Yes\, I would like to help support educational programs at Beth Tzedec.\n			\n			\n					\n					Not today\, but maybe another time.\n			Thank you for your support! How much would you like to contribute?(Required)\n			\n					\n					$18\n			\n			\n					\n					$36\n			\n			\n					\n					$54\n			\n			\n					\n					I would like to choose my own contribution amount.\n			How much would you like to contribute?\n					\n				Total
URL:https://bethtzedec.ca/event/judaism-201-2/2026-01-19/
LOCATION:Beth Tzedec
CATEGORIES:General Events
END:VEVENT
BEGIN:VEVENT
DTSTART;TZID=America/Denver:20260122T120000
DTEND;TZID=America/Denver:20260122T140000
DTSTAMP:20260423T153404
CREATED:20251211T152633Z
LAST-MODIFIED:20260114T180353Z
UID:10001701-1769083200-1769090400@bethtzedec.ca
SUMMARY:Hazak Lunch & Learn: Tzedakah with Vision
DESCRIPTION:**NEW DATE** \nJoin us for our monthly Hazak Lunch & Learn\, featuring guest speakers on a variety of engaging topics. Enjoy a delicious meal while expanding your knowledge and connecting with the community. Each session offers fresh insights and lively discussions. Don’t miss this enriching lunchtime experience! This January\, we’ll be joined by Brenda Sapoznikow and Joseph Tappenden of JCFC. \nFor 35 years\, the Jewish Community Foundation of Calgary has partnered with our community to strengthen Jewish life today and for generations to come. By working closely with donors\, JCFC helps uncover thoughtful\, creative ways to support the causes that they care about — both during their lifetime and beyond it. This approach ensures that generosity today has a lasting impact tomorrow. \nJoin Brenda Sapoznikow and Joseph Tappenden for an engaging presentation exploring how forward-thinking philanthropy has helped Jewish organizations\, programs\, and students. Through real stories and practical insight\, you’ll hear how strategic philanthropy can change the way you think about Tzedakah. \n\n                \n                        \n                            Hazak Lunch & Learn\n                             \n                        \n                        Name(Required)\n                            \n                            \n                                                    \n                                                    First\n                                                \n                            \n                            \n                                                    \n                                                    Last\n                                                \n                            \n                        Email(Required)\n                            \n                        PhoneWhich session are you registering for?Thursday\, May 7 — Sahbra Anna MarkusWe're always looking for new speakers who want to teach us about their work or passions. Is there anyone you think we should reach out to for an upcoming session?\nHow many CONGREGANTS would you like to register for our Lunch & Learn? Quantity\n					\n					\n						Price:\n						$ 15.00 CAD\n					\n					\n					 Quantity \n				Please share the name(s) of each CONGREGANT that you are registering.\nHow many GUESTS would you like to register for our Lunch & Learn? Quantity\n					\n					\n						Price:\n						$ 20.00 CAD\n					\n					\n					 Quantity \n				Please share the name(s) of each GUEST that you are registering.\nNot up for lunch? How many people would you like to register just to LEARN? Quantity\n					\n					\n						Price:\n						$ 5.00 CAD\n					\n					\n					 Quantity \n				All attendees are welcome to join us for drinks and desserts.Please share the name(s) of each person that you are registering for Just Learning (with beverages and dessert).\nDoes anyone in your party have dietary or allergy concerns that we should know about?\nIf learning programs like this are important to you\, please consider making a contribution to support similar initiatives at Beth Tzedec.\n			\n					\n					Yes\, I would like to make a contribution to support learning programs at Beth Tzedec.\n			\n			\n					\n					Not today\, but maybe another time.\n			Thank you for your support! How much would you like to contribute?\n			\n					\n					$18\n			\n			\n					\n					$36\n			\n			\n					\n					$54\n			\n			\n					\n					I would like to choose my own contribution amount.\n			How much would you like to contribute?\n					\n				Total
URL:https://bethtzedec.ca/event/hazak-lunch-learn-tzedakah-with-vision/
LOCATION:Beth Tzedec
CATEGORIES:General Events
END:VEVENT
BEGIN:VEVENT
DTSTART;TZID=America/Denver:20260124T163000
DTEND;TZID=America/Denver:20260124T183000
DTSTAMP:20260423T153404
CREATED:20251020T154853Z
LAST-MODIFIED:20251020T155359Z
UID:10001690-1769272200-1769279400@bethtzedec.ca
SUMMARY:Seudah Shelishit: Exploring Pirkei DeRabbi Eliezer
DESCRIPTION:Pirkei De-Rabbi Eliezer (The Chapters of Rabbi Eliezer) is one of the most imaginative and wide-ranging works of rabbinic literature—a Talmudic-era collection of midrashim that retells and expands upon the Torah’s stories\, from the creation of the world to Miriam’s leprosy in the Book of Numbers. Within its pages you’ll find Jewish ethics\, ancient customs\, legends\, and even mystical calculations about the beginning and the end of time. Traditionally attributed to Rabbi Eliezer ben Hyrcanus\, a 2nd-century sage\, the text was likely compiled in the eighth or ninth century. \nJoin Rabbi Russ for a fascinating journey through this remarkable work—a tapestry of storytelling\, interpretation\, and spiritual imagination. Together\, we’ll explore how Pirkei De-Rabbi Eliezer reshapes familiar biblical narratives\, connects them to enduring Jewish values\, and invites us to see Torah through a lens of creativity and wonder. \nEach session will combine close reading with lively discussion\, making the class accessible to both newcomers and seasoned learners. \nCome discover why Pirkei De-Rabbi Eliezer has captivated readers for centuries—and how its timeless insights continue to inspire and challenge us today. \nRegistration not required\, but appreciated. \n\n                \n                        \n                            Seudah Shelishit Registration Form\n                            Please use this form to register for the entire course. \n                        \n                        Name(Required)\n                            \n                            \n                                                    \n                                                    First\n                                                \n                            \n                            \n                                                    \n                                                    Last\n                                                \n                            \n                        Email(Required)\n                            \n                        PhoneHow many attendees would you like to register? Quantity\n					\n					\n						Price:\n						$ 0.00 CAD\n					\n					\n					 Quantity \n				Please list the names of everyone you are registering for this program.(Required)\n								\n								Are you interested in sponsoring an upcoming seudah? If so\, check this box and someone from our office will be in touch.\n							There is NO CHARGE to participate in our Seudah Shelishit learning program. But if programs like this are a priority for you\, please consider making a donation to support similar initiatives in the future.(Required)\n			\n					\n					Yes\, I would like to make a contribution to support Beth Tzedec.\n			\n			\n					\n					Not today\, but maybe another time.\n			Thank you for your support! How much would you like to contribute?(Required)\n			\n					\n					$18\n			\n			\n					\n					$36\n			\n			\n					\n					$54\n			\n			\n					\n					I would like to choose my own amount.\n			How much would you like to contribute?\n					\n				Total
URL:https://bethtzedec.ca/event/seudah-shelishit-exploring-pirkei-derabbi-eliezer/2026-01-24/
LOCATION:Beth Tzedec
CATEGORIES:General Events
END:VEVENT
END:VCALENDAR