BEGIN:VCALENDAR
VERSION:2.0
PRODID:-//Beth Tzedec Congregation - ECPv6.15.17//NONSGML v1.0//EN
CALSCALE:GREGORIAN
METHOD:PUBLISH
X-WR-CALNAME:Beth Tzedec Congregation
X-ORIGINAL-URL:https://bethtzedec.ca
X-WR-CALDESC:Events for Beth Tzedec Congregation
REFRESH-INTERVAL;VALUE=DURATION:PT1H
X-Robots-Tag:noindex
X-PUBLISHED-TTL:PT1H
BEGIN:VTIMEZONE
TZID:America/Denver
BEGIN:DAYLIGHT
TZOFFSETFROM:-0700
TZOFFSETTO:-0600
TZNAME:MDT
DTSTART:20250309T090000
END:DAYLIGHT
BEGIN:STANDARD
TZOFFSETFROM:-0600
TZOFFSETTO:-0700
TZNAME:MST
DTSTART:20251102T080000
END:STANDARD
BEGIN:DAYLIGHT
TZOFFSETFROM:-0700
TZOFFSETTO:-0600
TZNAME:MDT
DTSTART:20260308T090000
END:DAYLIGHT
BEGIN:STANDARD
TZOFFSETFROM:-0600
TZOFFSETTO:-0700
TZNAME:MST
DTSTART:20261101T080000
END:STANDARD
BEGIN:DAYLIGHT
TZOFFSETFROM:-0700
TZOFFSETTO:-0600
TZNAME:MDT
DTSTART:20270314T090000
END:DAYLIGHT
BEGIN:STANDARD
TZOFFSETFROM:-0600
TZOFFSETTO:-0700
TZNAME:MST
DTSTART:20271107T080000
END:STANDARD
END:VTIMEZONE
BEGIN:VEVENT
DTSTART;TZID=America/Denver:20260109T173000
DTEND;TZID=America/Denver:20260109T203000
DTSTAMP:20260423T151716
CREATED:20260109T140026Z
LAST-MODIFIED:20260109T140026Z
UID:10001621-1767979800-1767990600@bethtzedec.ca
SUMMARY:Family Shabbat Dinner
DESCRIPTION:Bring your whole family together for an unforgettable Friday night filled with music\, laughter\, and community spirit! \nAt 5:30pm\, jump into an interactive Shabbat service with singing\, games\, and stories that will have kids (and grown-ups!) smiling from ear to ear. Then at 6:00pm\, we’ll gather around the table for a mouthwatering\, shul-cooked dinner—because Shabbat tastes better when we share it together. \nMore than a meal\, it’s a night of connection\, joy\, and Shabbat magic. \nRegistration for our January dinner has now closed. We look forward to seeing you in February! \n\n\n                \n                        \n                            Family Shabbat Dinner Registration\n                             \n                        \n                        Name(Required)\n                            \n                            \n                                                    \n                                                    First\n                                                \n                            \n                            \n                                                    \n                                                    Last\n                                                \n                            \n                        Email(Required)\n                            \n                        Phone(Required)Which Family Shabbat Dinner would you like to register for?Friday\, April 17\nAttendee Information\nHow many ADULT (13+) CONGREGANTS would you like to register? Quantity\n					\n					\n						Price:\n						$ 20.00 CAD\n					\n					\n					 Quantity \n				Please share the name(s) of each adult congregant that you are registering.How many ADULT (13+) GUESTS would you like to register? Quantity\n					\n					\n						Price:\n						$ 25.00 CAD\n					\n					\n					 Quantity \n				Please share the name(s) of each adult guest that you are registering.How many CONGREGANT CHILDREN (Ages 5-12) would you like to register? Quantity\n					\n					\n						Price:\n						$ 15.00 CAD\n					\n					\n					 Quantity \n				Please share the name(s) and age(s) of each congregant aged 5-12 that you are registering.How many GUEST CHILDREN (ages 5-12) would you like to register? Quantity\n					\n					\n						Price:\n						$ 15.00 CAD\n					\n					\n					 Quantity \n				Please share the name(s) and age(s) of each guest aged 5-12 that you are registering.How many YOUNG CHILDREN (ages 4 and under) would you like to register? Quantity\n					\n					\n						Price:\n						$ 0.00 CAD\n					\n					\n					 Quantity \n				Please share the name(s) and age(s) of each guest 4 and under that you are registering.Does anyone in your party have any dietary concerns that we should know about?Please clarify which member(s) of your party have which allergies and other concerns.\nSupporting Family Events\n\nEvents like this are a critical part of bringing our community together\, but they wouldn't be possible without the support of our members and guests. Would you like to make an OPTIONAL donation to help support family programs at Beth Tzedec?\n			\n					\n					Yes\, I would like to help support family programs at Beth Tzedec.\n			\n			\n					\n					Not today\, but maybe another time.\n			Thank you for your support! How much would you like to contribute?\n			\n					\n					$18\n			\n			\n					\n					$36\n			\n			\n					\n					$54\n			\n			\n					\n					I would like to choose my own contribution amount.\n			How much would you like to contribute?\n					\n				Total
URL:https://bethtzedec.ca/event/family-shabbat-dinner-6/
LOCATION:Beth Tzedec
CATEGORIES:General Events
ATTACH;FMTTYPE=image/png:https://bethtzedec.ca/wp-content/uploads/2023/07/family-shabbat-dinner1.png
END:VEVENT
BEGIN:VEVENT
DTSTART;TZID=America/Denver:20260110T163000
DTEND;TZID=America/Denver:20260110T183000
DTSTAMP:20260423T151716
CREATED:20251020T154853Z
LAST-MODIFIED:20251020T155359Z
UID:10001688-1768062600-1768069800@bethtzedec.ca
SUMMARY:Seudah Shelishit: Exploring Pirkei DeRabbi Eliezer
DESCRIPTION:Pirkei De-Rabbi Eliezer (The Chapters of Rabbi Eliezer) is one of the most imaginative and wide-ranging works of rabbinic literature—a Talmudic-era collection of midrashim that retells and expands upon the Torah’s stories\, from the creation of the world to Miriam’s leprosy in the Book of Numbers. Within its pages you’ll find Jewish ethics\, ancient customs\, legends\, and even mystical calculations about the beginning and the end of time. Traditionally attributed to Rabbi Eliezer ben Hyrcanus\, a 2nd-century sage\, the text was likely compiled in the eighth or ninth century. \nJoin Rabbi Russ for a fascinating journey through this remarkable work—a tapestry of storytelling\, interpretation\, and spiritual imagination. Together\, we’ll explore how Pirkei De-Rabbi Eliezer reshapes familiar biblical narratives\, connects them to enduring Jewish values\, and invites us to see Torah through a lens of creativity and wonder. \nEach session will combine close reading with lively discussion\, making the class accessible to both newcomers and seasoned learners. \nCome discover why Pirkei De-Rabbi Eliezer has captivated readers for centuries—and how its timeless insights continue to inspire and challenge us today. \nRegistration not required\, but appreciated. \n\n                \n                        \n                            Seudah Shelishit Registration Form\n                            Please use this form to register for the entire course. \n                        \n                        Name(Required)\n                            \n                            \n                                                    \n                                                    First\n                                                \n                            \n                            \n                                                    \n                                                    Last\n                                                \n                            \n                        Email(Required)\n                            \n                        PhoneHow many attendees would you like to register? Quantity\n					\n					\n						Price:\n						$ 0.00 CAD\n					\n					\n					 Quantity \n				Please list the names of everyone you are registering for this program.(Required)\n								\n								Are you interested in sponsoring an upcoming seudah? If so\, check this box and someone from our office will be in touch.\n							There is NO CHARGE to participate in our Seudah Shelishit learning program. But if programs like this are a priority for you\, please consider making a donation to support similar initiatives in the future.(Required)\n			\n					\n					Yes\, I would like to make a contribution to support Beth Tzedec.\n			\n			\n					\n					Not today\, but maybe another time.\n			Thank you for your support! How much would you like to contribute?(Required)\n			\n					\n					$18\n			\n			\n					\n					$36\n			\n			\n					\n					$54\n			\n			\n					\n					I would like to choose my own amount.\n			How much would you like to contribute?\n					\n				Total
URL:https://bethtzedec.ca/event/seudah-shelishit-exploring-pirkei-derabbi-eliezer/2026-01-10/
LOCATION:Beth Tzedec
CATEGORIES:General Events
END:VEVENT
END:VCALENDAR