BEGIN:VCALENDAR
VERSION:2.0
PRODID:-//Beth Tzedec Congregation - ECPv6.15.17//NONSGML v1.0//EN
CALSCALE:GREGORIAN
METHOD:PUBLISH
X-WR-CALNAME:Beth Tzedec Congregation
X-ORIGINAL-URL:https://bethtzedec.ca
X-WR-CALDESC:Events for Beth Tzedec Congregation
REFRESH-INTERVAL;VALUE=DURATION:PT1H
X-Robots-Tag:noindex
X-PUBLISHED-TTL:PT1H
BEGIN:VTIMEZONE
TZID:America/Denver
BEGIN:DAYLIGHT
TZOFFSETFROM:-0700
TZOFFSETTO:-0600
TZNAME:MDT
DTSTART:20240310T090000
END:DAYLIGHT
BEGIN:STANDARD
TZOFFSETFROM:-0600
TZOFFSETTO:-0700
TZNAME:MST
DTSTART:20241103T080000
END:STANDARD
BEGIN:DAYLIGHT
TZOFFSETFROM:-0700
TZOFFSETTO:-0600
TZNAME:MDT
DTSTART:20250309T090000
END:DAYLIGHT
BEGIN:STANDARD
TZOFFSETFROM:-0600
TZOFFSETTO:-0700
TZNAME:MST
DTSTART:20251102T080000
END:STANDARD
BEGIN:DAYLIGHT
TZOFFSETFROM:-0700
TZOFFSETTO:-0600
TZNAME:MDT
DTSTART:20260308T090000
END:DAYLIGHT
BEGIN:STANDARD
TZOFFSETFROM:-0600
TZOFFSETTO:-0700
TZNAME:MST
DTSTART:20261101T080000
END:STANDARD
END:VTIMEZONE
BEGIN:VEVENT
DTSTART;TZID=America/Denver:20251214T100000
DTEND;TZID=America/Denver:20251214T120000
DTSTAMP:20260423T165000
CREATED:20251124T113200Z
LAST-MODIFIED:20251124T113218Z
UID:10001698-1765706400-1765713600@bethtzedec.ca
SUMMARY:Family Hanukkah Party
DESCRIPTION:Celebrate the Festival of Lights with our annual Family Hanukkah Party! Gather your loved ones and join us for a joyful morning filled with music\, crafts\, games\, and the warm spirit of community. We’ll mark the holiday with festive activities for all ages\, delicious Hanukkah treats\, and plenty of opportunities to create special memories together. \nBring your family\, invite your friends\, and get ready for a bright and beautiful celebration! \n\n\n                \n                        \n                            Family Hanukkah Party\n                             \n                        \n                        Name(Required)\n                            \n                            \n                                                    \n                                                    First\n                                                \n                            \n                            \n                                                    \n                                                    Last\n                                                \n                            \n                        Email(Required)\n                            \n                        PhoneNumber of Adults Quantity(Required)\n					\n					\n						Price:\n						$ 0.00 CAD\n					\n					\n					 Quantity \n				Number of Children Quantity(Required)\n					\n					\n						Price:\n						$ 0.00 CAD\n					\n					\n					 Quantity \n				Please tell us about the children who will be attending.(Required)NameAgeGrade    Add   RemoveClick the plus sign to the right of this field to add spaces for more children.We want to make sure there's something tasty for everyone to enjoy! Please let us know if there are any food  allergies or concerns that we should be aware of.\nSupporting Jewish Community\n\nEvents like this are a critical part of bringing our community together\, but they wouldn't be possible without the support of our members and guests. There is no charge to join our Hanukkah celebration\, but please consider making an OPTIONAL donation to help support holiday celebrations at Beth Tzedec.\n			\n					\n					Yes\, I would like to help support Jewish holiday events at Beth Tzedec.\n			\n			\n					\n					Not today\, but maybe another time.\n			Thank you for your support! How much would you like to contribute?(Required)\n			\n					\n					$18\n			\n			\n					\n					$36\n			\n			\n					\n					$54\n			\n			\n					\n					I would like to choose my own contribution amount.\n			How much would you like to contribute?\n					\n				Total
URL:https://bethtzedec.ca/event/family-hanukkah-party/
LOCATION:Beth Tzedec
CATEGORIES:General Events
ATTACH;FMTTYPE=image/png:https://bethtzedec.ca/wp-content/uploads/2025/11/Family-Hanukkah-Party-website-homepage-banner.png
END:VEVENT
BEGIN:VEVENT
DTSTART;TZID=America/Denver:20251220T163000
DTEND;TZID=America/Denver:20251220T183000
DTSTAMP:20260423T165000
CREATED:20251020T154853Z
LAST-MODIFIED:20251020T155359Z
UID:10001687-1766248200-1766255400@bethtzedec.ca
SUMMARY:Seudah Shelishit: Exploring Pirkei DeRabbi Eliezer
DESCRIPTION:Pirkei De-Rabbi Eliezer (The Chapters of Rabbi Eliezer) is one of the most imaginative and wide-ranging works of rabbinic literature—a Talmudic-era collection of midrashim that retells and expands upon the Torah’s stories\, from the creation of the world to Miriam’s leprosy in the Book of Numbers. Within its pages you’ll find Jewish ethics\, ancient customs\, legends\, and even mystical calculations about the beginning and the end of time. Traditionally attributed to Rabbi Eliezer ben Hyrcanus\, a 2nd-century sage\, the text was likely compiled in the eighth or ninth century. \nJoin Rabbi Russ for a fascinating journey through this remarkable work—a tapestry of storytelling\, interpretation\, and spiritual imagination. Together\, we’ll explore how Pirkei De-Rabbi Eliezer reshapes familiar biblical narratives\, connects them to enduring Jewish values\, and invites us to see Torah through a lens of creativity and wonder. \nEach session will combine close reading with lively discussion\, making the class accessible to both newcomers and seasoned learners. \nCome discover why Pirkei De-Rabbi Eliezer has captivated readers for centuries—and how its timeless insights continue to inspire and challenge us today. \nRegistration not required\, but appreciated. \n\n                \n                        \n                            Seudah Shelishit Registration Form\n                            Please use this form to register for the entire course. \n                        \n                        Name(Required)\n                            \n                            \n                                                    \n                                                    First\n                                                \n                            \n                            \n                                                    \n                                                    Last\n                                                \n                            \n                        Email(Required)\n                            \n                        PhoneHow many attendees would you like to register? Quantity\n					\n					\n						Price:\n						$ 0.00 CAD\n					\n					\n					 Quantity \n				Please list the names of everyone you are registering for this program.(Required)\n								\n								Are you interested in sponsoring an upcoming seudah? If so\, check this box and someone from our office will be in touch.\n							There is NO CHARGE to participate in our Seudah Shelishit learning program. But if programs like this are a priority for you\, please consider making a donation to support similar initiatives in the future.(Required)\n			\n					\n					Yes\, I would like to make a contribution to support Beth Tzedec.\n			\n			\n					\n					Not today\, but maybe another time.\n			Thank you for your support! How much would you like to contribute?(Required)\n			\n					\n					$18\n			\n			\n					\n					$36\n			\n			\n					\n					$54\n			\n			\n					\n					I would like to choose my own amount.\n			How much would you like to contribute?\n					\n				Total
URL:https://bethtzedec.ca/event/seudah-shelishit-exploring-pirkei-derabbi-eliezer/2025-12-20/
LOCATION:Beth Tzedec
CATEGORIES:General Events
END:VEVENT
END:VCALENDAR