BEGIN:VCALENDAR
VERSION:2.0
PRODID:-//Beth Tzedec Congregation - ECPv6.15.17//NONSGML v1.0//EN
CALSCALE:GREGORIAN
METHOD:PUBLISH
X-ORIGINAL-URL:https://bethtzedec.ca
X-WR-CALDESC:Events for Beth Tzedec Congregation
REFRESH-INTERVAL;VALUE=DURATION:PT1H
X-Robots-Tag:noindex
X-PUBLISHED-TTL:PT1H
BEGIN:VTIMEZONE
TZID:America/Denver
BEGIN:DAYLIGHT
TZOFFSETFROM:-0700
TZOFFSETTO:-0600
TZNAME:MDT
DTSTART:20240310T090000
END:DAYLIGHT
BEGIN:STANDARD
TZOFFSETFROM:-0600
TZOFFSETTO:-0700
TZNAME:MST
DTSTART:20241103T080000
END:STANDARD
BEGIN:DAYLIGHT
TZOFFSETFROM:-0700
TZOFFSETTO:-0600
TZNAME:MDT
DTSTART:20250309T090000
END:DAYLIGHT
BEGIN:STANDARD
TZOFFSETFROM:-0600
TZOFFSETTO:-0700
TZNAME:MST
DTSTART:20251102T080000
END:STANDARD
BEGIN:DAYLIGHT
TZOFFSETFROM:-0700
TZOFFSETTO:-0600
TZNAME:MDT
DTSTART:20260308T090000
END:DAYLIGHT
BEGIN:STANDARD
TZOFFSETFROM:-0600
TZOFFSETTO:-0700
TZNAME:MST
DTSTART:20261101T080000
END:STANDARD
END:VTIMEZONE
BEGIN:VEVENT
DTSTART;TZID=America/Denver:20251014T180000
DTEND;TZID=America/Denver:20251014T200000
DTSTAMP:20260423T210215
CREATED:20250915T224855Z
LAST-MODIFIED:20250916T010403Z
UID:10001661-1760464800-1760472000@bethtzedec.ca
SUMMARY:Simchat Torah Celebration
DESCRIPTION:6:00pm Service | 7:00pm Reception \nShare a sweet and joyous celebration as we mark the conclusion of the annual Torah reading cycle with a Simchat Torah event and reception. With a special activity for kids\, we’ll rejoice together as we conclude the annual cycle of Torah readings and embark on a new year of learning\, growth\, and inspiration! \n\n\n                \n                        \n                            Simchat Torah Celebration\n                             \n                        \n                        Name(Required)\n                            \n                            \n                                                    \n                                                    First\n                                                \n                            \n                            \n                                                    \n                                                    Last\n                                                \n                            \n                        Email(Required)\n                            \n                        PhoneNumber of Adults Quantity(Required)\n					\n					\n						Price:\n						$ 0.00 CAD\n					\n					\n					 Quantity \n				Number of Children Quantity\n					\n					\n						Price:\n						$ 0.00 CAD\n					\n					\n					 Quantity \n				Please tell us about the children who will be attending.NameAgeGrade    Add   RemoveClick the plus sign to the right of this field to add spaces for more children.\nSupporting Jewish Community\n\nEvents like this are a critical part of bringing our community together\, but they wouldn't be possible without the support of our members and guests. There is no charge to join us for Simchat Torah\, but please consider making an OPTIONAL donation to help support Jewish community at Beth Tzedec.(Required)\n			\n					\n					Yes\, I would like to help support Jewish community at Beth Tzedec.\n			\n			\n					\n					Not today\, but maybe another time.\n			Thank you for your support! How much would you like to contribute?(Required)\n			\n					\n					$18\n			\n			\n					\n					$36\n			\n			\n					\n					$54\n			\n			\n					\n					I would like to select my own contribution amount.\n			How much would you like to contribute?
URL:https://bethtzedec.ca/event/simchat-torah-celebration/
LOCATION:Beth Tzedec
CATEGORIES:General Events
END:VEVENT
END:VCALENDAR