BEGIN:VCALENDAR
VERSION:2.0
PRODID:-//Beth Tzedec Congregation - ECPv6.15.17//NONSGML v1.0//EN
CALSCALE:GREGORIAN
METHOD:PUBLISH
X-ORIGINAL-URL:https://bethtzedec.ca
X-WR-CALDESC:Events for Beth Tzedec Congregation
REFRESH-INTERVAL;VALUE=DURATION:PT1H
X-Robots-Tag:noindex
X-PUBLISHED-TTL:PT1H
BEGIN:VTIMEZONE
TZID:America/Denver
BEGIN:DAYLIGHT
TZOFFSETFROM:-0700
TZOFFSETTO:-0600
TZNAME:MDT
DTSTART:20240310T090000
END:DAYLIGHT
BEGIN:STANDARD
TZOFFSETFROM:-0600
TZOFFSETTO:-0700
TZNAME:MST
DTSTART:20241103T080000
END:STANDARD
BEGIN:DAYLIGHT
TZOFFSETFROM:-0700
TZOFFSETTO:-0600
TZNAME:MDT
DTSTART:20250309T090000
END:DAYLIGHT
BEGIN:STANDARD
TZOFFSETFROM:-0600
TZOFFSETTO:-0700
TZNAME:MST
DTSTART:20251102T080000
END:STANDARD
BEGIN:DAYLIGHT
TZOFFSETFROM:-0700
TZOFFSETTO:-0600
TZNAME:MDT
DTSTART:20260308T090000
END:DAYLIGHT
BEGIN:STANDARD
TZOFFSETFROM:-0600
TZOFFSETTO:-0700
TZNAME:MST
DTSTART:20261101T080000
END:STANDARD
END:VTIMEZONE
BEGIN:VEVENT
DTSTART;TZID=America/Denver:20251001T184500
DTEND;TZID=America/Denver:20251001T191500
DTSTAMP:20260423T182230
CREATED:20250919T162243Z
LAST-MODIFIED:20250919T162243Z
UID:10001664-1759344300-1759346100@bethtzedec.ca
SUMMARY:Family Kol Nidre Service
DESCRIPTION:Join Rabbi Ilana for a sweet and meaningful Kol Nidre Service for families. Kol Nidre will be chanted along with a brief service complete with a story\, songs\, and age-appropriate prayers. \nSuitable for families and their children 10 years of age and under. High Holiday tickets required.
URL:https://bethtzedec.ca/event/family-kol-nidre-service/
LOCATION:Beth Tzedec
CATEGORIES:General Events
END:VEVENT
END:VCALENDAR