BEGIN:VCALENDAR
VERSION:2.0
PRODID:-//Beth Tzedec Congregation - ECPv6.15.17//NONSGML v1.0//EN
CALSCALE:GREGORIAN
METHOD:PUBLISH
X-ORIGINAL-URL:https://bethtzedec.ca
X-WR-CALDESC:Events for Beth Tzedec Congregation
REFRESH-INTERVAL;VALUE=DURATION:PT1H
X-Robots-Tag:noindex
X-PUBLISHED-TTL:PT1H
BEGIN:VTIMEZONE
TZID:America/Denver
BEGIN:DAYLIGHT
TZOFFSETFROM:-0700
TZOFFSETTO:-0600
TZNAME:MDT
DTSTART:20240310T090000
END:DAYLIGHT
BEGIN:STANDARD
TZOFFSETFROM:-0600
TZOFFSETTO:-0700
TZNAME:MST
DTSTART:20241103T080000
END:STANDARD
BEGIN:DAYLIGHT
TZOFFSETFROM:-0700
TZOFFSETTO:-0600
TZNAME:MDT
DTSTART:20250309T090000
END:DAYLIGHT
BEGIN:STANDARD
TZOFFSETFROM:-0600
TZOFFSETTO:-0700
TZNAME:MST
DTSTART:20251102T080000
END:STANDARD
BEGIN:DAYLIGHT
TZOFFSETFROM:-0700
TZOFFSETTO:-0600
TZNAME:MDT
DTSTART:20260308T090000
END:DAYLIGHT
BEGIN:STANDARD
TZOFFSETFROM:-0600
TZOFFSETTO:-0700
TZNAME:MST
DTSTART:20261101T080000
END:STANDARD
END:VTIMEZONE
BEGIN:VEVENT
DTSTART;TZID=America/Denver:20250914T130000
DTEND;TZID=America/Denver:20250914T140000
DTSTAMP:20260423T210244
CREATED:20250818T185356Z
LAST-MODIFIED:20250901T190309Z
UID:10001625-1757854800-1757858400@bethtzedec.ca
SUMMARY:B'nai Mitzvah Program Orientation & Information Session
DESCRIPTION:Is your child getting ready to start preparing for their Bar or Bat Mitzvah? Join us for an orientation session to learn all about Beth Tzedec’s B’nai Mitzvah program—what to expect\, how to prepare\, and the many ways your family can be involved in this meaningful journey. This is a great opportunity to meet our clergy and education team\, ask questions\, and connect with other parents. \nKindly register in advance to let us know you’ll be coming! \n\n\n                \n                        \n                            B'nai Mitzvah Orientation\n                             \n                        \n                        Name of B'nai Mitzvah Student(Required)\n                            \n                            \n                                                    \n                                                    First\n                                                \n                            \n                            \n                                                    \n                                                    Last\n                                                \n                            \n                        Parent's Name(Required)\n                            \n                            \n                                                    \n                                                    First\n                                                \n                            \n                            \n                                                    \n                                                    Last\n                                                \n                            \n                        Parent's Email(Required)\n                            \n                        Parent's Phone Number(Required)Have you already registered your child for the B'nai Mitzvah program?(Required)\n			\n					\n					Yes\, my child is registered.\n			\n			\n					\n					Not yet\, but I'll be registering my child shortly.\n			\n			\n					\n					No\, we want to learn more about the program before registering.\n			How many attendees are you registering for this Parent Orientation? Quantity(Required)\n					\n					\n						Price:\n						$ 0.00 CAD\n					\n					\n					 Quantity \n				Please note that B'nai Mitzvah students are required to attend with their parents/guardians.\n          \n            \n            \n            \n            \n            \n            \n            \n            \n            \n            \n            \n            \n            \n        \n                        \n                        \n\n                \n                        \n                            B'nai Mitzvah Orientation\n                             \n                        \n                        Name of B'nai Mitzvah Student(Required)\n                            \n                            \n                                                    \n                                                    First\n                                                \n                            \n                            \n                                                    \n                                                    Last\n                                                \n                            \n                        Parent's Name(Required)\n                            \n                            \n                                                    \n                                                    First\n                                                \n                            \n                            \n                                                    \n                                                    Last\n                                                \n                            \n                        Parent's Email(Required)\n                            \n                        Parent's Phone Number(Required)Have you already registered your child for the B'nai Mitzvah program?(Required)\n			\n					\n					Yes\, my child is registered.\n			\n			\n					\n					Not yet\, but I'll be registering my child shortly.\n			\n			\n					\n					No\, we want to learn more about the program before registering.\n			How many attendees are you registering for this Parent Orientation? Quantity(Required)\n					\n					\n						Price:\n						$ 0.00 CAD\n					\n					\n					 Quantity \n				Please note that B'nai Mitzvah students are required to attend with their parents/guardians.
URL:https://bethtzedec.ca/event/bnai-mitzvah-program-orientation/
LOCATION:Beth Tzedec
CATEGORIES:General Events
END:VEVENT
BEGIN:VEVENT
DTSTART;TZID=America/Denver:20250915T080000
DTEND;TZID=America/Denver:20250915T090000
DTSTAMP:20260423T210244
CREATED:20250722T195411Z
LAST-MODIFIED:20250723T142939Z
UID:10001591-1757923200-1757926800@bethtzedec.ca
SUMMARY:Elul Challenge: Unpacking Emet v’Emunah
DESCRIPTION:Conservative Judaism\, as a movement\, has only issued one statement of principles over its 100+ year history. Join Rabbi Russ before morning services throughout Elul as he helps us understand the foundational principles of our movement\, and what it means to identify with the Conservative/Masorti Judaism. \nWe will be meeting on: \n\nMonday\, August 25\nThursday\, August 28\nThursday\, September 4\nMonday\, September 8\nMonday\, September 15\nThursday\, September 18\n\n\n                \n                        \n                            Elul Challenge\n                             \n                        \n                        Name(Required)\n                            \n                            \n                                                    \n                                                    First\n                                                \n                            \n                            \n                                                    \n                                                    Last\n                                                \n                            \n                        Email(Required)\n                            \n                        Phone(Required)Are you a current Beth Tzedec member?(Required)\n			\n					\n					Yes\, my membership is current for the 2024-25 year.\n			\n			\n					\n					No\, I am not a current Beth Tzedec member.\n			\n					\n					\n						Price:\n						\n					\n					\n				There is NO CHARGE to participate in Beth Tzedec's Elul Challenge. But if programs like this are a priority for you\, please consider making a donation to support similar initiatives in the future.(Required)\n			\n					\n					Yes\, I would like to make a contribution to support Beth Tzedec.\n			\n			\n					\n					Not today\, but maybe another time.\n			Thank you for your support! How much would you like to contribute?\n			\n					\n					$18\n			\n			\n					\n					$36\n			\n			\n					\n					$54\n			\n			\n					\n					I would like to choose my own amount.\n			How much would you like to contribute?
URL:https://bethtzedec.ca/event/elul-challenge-unpacking-emet-vemunah/2025-09-15/
LOCATION:Beth Tzedec
CATEGORIES:General Events
ATTACH;FMTTYPE=image/png:https://bethtzedec.ca/wp-content/uploads/2025/07/elul-challenge-20251.png
END:VEVENT
BEGIN:VEVENT
DTSTART;TZID=America/Denver:20250915T170000
DTEND;TZID=America/Denver:20250915T180000
DTSTAMP:20260423T210244
CREATED:20250801T165243Z
LAST-MODIFIED:20260226T162319Z
UID:10001595-1757955600-1757959200@bethtzedec.ca
SUMMARY:Judaism 201
DESCRIPTION:Ready to go deeper in your Jewish learning? Judaism 201 is an adult education series with Rabbi Russ designed for those who want to explore the richness of our heritage and religious tradition. \nThis year’s program will guide learners through some of Judaism’s most fascinating texts and practices\, including Sefer Yetzirah (The Book of Formation)\, an introduction to Talmud\, Sefer Bahir (The Book of Illumination)\, and an introduction to Jewish prayer. Whether you’re looking to strengthen your knowledge\, engage with timeless wisdom\, or connect more deeply with Jewish life\, Judaism 201 offers a meaningful path forward. \nKindly register in advance so that we know you’re coming! \n\n                \n                        \n                            Judaism 201 Registration\n                             \n                        \n                        Name(Required)\n                            \n                            \n                                                    \n                                                    First\n                                                \n                            \n                            \n                                                    \n                                                    Last\n                                                \n                            \n                        Email(Required)\n                            \n                        Phone(Required)Are you a current Beth Tzedec member?(Required)\n			\n					\n					Yes\, my membership is current for the 2025-26 year.\n			\n			\n					\n					No\, I'm not a current Beth Tzedec member.\n			Non-Member Tuition\n					\n					\n						Price:\n						\n					\n					\n				There is NO CHARGE for members to participate in these exciting classes. But if Jewish learning is a priority to you\, please consider making an optional donation to help support programs like this at Beth Tzedec.(Required)\n			\n					\n					Yes\, I would like to help support educational programs at Beth Tzedec.\n			\n			\n					\n					Not today\, but maybe another time.\n			Thank you for your support! How much would you like to contribute?(Required)\n			\n					\n					$18\n			\n			\n					\n					$36\n			\n			\n					\n					$54\n			\n			\n					\n					I would like to choose my own contribution amount.\n			How much would you like to contribute?\n					\n				Total
URL:https://bethtzedec.ca/event/judaism-201-2/2025-09-15/
LOCATION:Beth Tzedec
CATEGORIES:General Events
END:VEVENT
BEGIN:VEVENT
DTSTART;TZID=America/Denver:20250918T080000
DTEND;TZID=America/Denver:20250918T090000
DTSTAMP:20260423T210244
CREATED:20250722T195411Z
LAST-MODIFIED:20250723T142939Z
UID:10001592-1758182400-1758186000@bethtzedec.ca
SUMMARY:Elul Challenge: Unpacking Emet v’Emunah
DESCRIPTION:Conservative Judaism\, as a movement\, has only issued one statement of principles over its 100+ year history. Join Rabbi Russ before morning services throughout Elul as he helps us understand the foundational principles of our movement\, and what it means to identify with the Conservative/Masorti Judaism. \nWe will be meeting on: \n\nMonday\, August 25\nThursday\, August 28\nThursday\, September 4\nMonday\, September 8\nMonday\, September 15\nThursday\, September 18\n\n\n                \n                        \n                            Elul Challenge\n                             \n                        \n                        Name(Required)\n                            \n                            \n                                                    \n                                                    First\n                                                \n                            \n                            \n                                                    \n                                                    Last\n                                                \n                            \n                        Email(Required)\n                            \n                        Phone(Required)Are you a current Beth Tzedec member?(Required)\n			\n					\n					Yes\, my membership is current for the 2024-25 year.\n			\n			\n					\n					No\, I am not a current Beth Tzedec member.\n			\n					\n					\n						Price:\n						\n					\n					\n				There is NO CHARGE to participate in Beth Tzedec's Elul Challenge. But if programs like this are a priority for you\, please consider making a donation to support similar initiatives in the future.(Required)\n			\n					\n					Yes\, I would like to make a contribution to support Beth Tzedec.\n			\n			\n					\n					Not today\, but maybe another time.\n			Thank you for your support! How much would you like to contribute?\n			\n					\n					$18\n			\n			\n					\n					$36\n			\n			\n					\n					$54\n			\n			\n					\n					I would like to choose my own amount.\n			How much would you like to contribute?
URL:https://bethtzedec.ca/event/elul-challenge-unpacking-emet-vemunah/2025-09-18/
LOCATION:Beth Tzedec
CATEGORIES:General Events
ATTACH;FMTTYPE=image/png:https://bethtzedec.ca/wp-content/uploads/2025/07/elul-challenge-20251.png
END:VEVENT
END:VCALENDAR