BEGIN:VCALENDAR
VERSION:2.0
PRODID:-//Beth Tzedec Congregation - ECPv6.15.17//NONSGML v1.0//EN
CALSCALE:GREGORIAN
METHOD:PUBLISH
X-ORIGINAL-URL:https://bethtzedec.ca
X-WR-CALDESC:Events for Beth Tzedec Congregation
REFRESH-INTERVAL;VALUE=DURATION:PT1H
X-Robots-Tag:noindex
X-PUBLISHED-TTL:PT1H
BEGIN:VTIMEZONE
TZID:America/Denver
BEGIN:DAYLIGHT
TZOFFSETFROM:-0700
TZOFFSETTO:-0600
TZNAME:MDT
DTSTART:20240310T090000
END:DAYLIGHT
BEGIN:STANDARD
TZOFFSETFROM:-0600
TZOFFSETTO:-0700
TZNAME:MST
DTSTART:20241103T080000
END:STANDARD
BEGIN:DAYLIGHT
TZOFFSETFROM:-0700
TZOFFSETTO:-0600
TZNAME:MDT
DTSTART:20250309T090000
END:DAYLIGHT
BEGIN:STANDARD
TZOFFSETFROM:-0600
TZOFFSETTO:-0700
TZNAME:MST
DTSTART:20251102T080000
END:STANDARD
BEGIN:DAYLIGHT
TZOFFSETFROM:-0700
TZOFFSETTO:-0600
TZNAME:MDT
DTSTART:20260308T090000
END:DAYLIGHT
BEGIN:STANDARD
TZOFFSETFROM:-0600
TZOFFSETTO:-0700
TZNAME:MST
DTSTART:20261101T080000
END:STANDARD
END:VTIMEZONE
BEGIN:VEVENT
DTSTART;TZID=America/Denver:20250908T080000
DTEND;TZID=America/Denver:20250908T090000
DTSTAMP:20260423T210216
CREATED:20250722T195411Z
LAST-MODIFIED:20250723T142939Z
UID:10001590-1757318400-1757322000@bethtzedec.ca
SUMMARY:Elul Challenge: Unpacking Emet v’Emunah
DESCRIPTION:Conservative Judaism\, as a movement\, has only issued one statement of principles over its 100+ year history. Join Rabbi Russ before morning services throughout Elul as he helps us understand the foundational principles of our movement\, and what it means to identify with the Conservative/Masorti Judaism. \nWe will be meeting on: \n\nMonday\, August 25\nThursday\, August 28\nThursday\, September 4\nMonday\, September 8\nMonday\, September 15\nThursday\, September 18\n\n\n\n                \n                        \n                            Elul Challenge\n                             \n                        \n                        Name(Required)\n                            \n                            \n                                                    \n                                                    First\n                                                \n                            \n                            \n                                                    \n                                                    Last\n                                                \n                            \n                        Email(Required)\n                            \n                        Phone(Required)Are you a current Beth Tzedec member?(Required)\n			\n					\n					Yes\, my membership is current for the 2024-25 year.\n			\n			\n					\n					No\, I am not a current Beth Tzedec member.\n			\n					\n					\n						Price:\n						\n					\n					\n				There is NO CHARGE to participate in Beth Tzedec's Elul Challenge. But if programs like this are a priority for you\, please consider making a donation to support similar initiatives in the future.(Required)\n			\n					\n					Yes\, I would like to make a contribution to support Beth Tzedec.\n			\n			\n					\n					Not today\, but maybe another time.\n			Thank you for your support! How much would you like to contribute?\n			\n					\n					$18\n			\n			\n					\n					$36\n			\n			\n					\n					$54\n			\n			\n					\n					I would like to choose my own amount.\n			How much would you like to contribute?
URL:https://bethtzedec.ca/event/elul-challenge-unpacking-emet-vemunah/2025-09-08/
LOCATION:Beth Tzedec
CATEGORIES:General Events
ATTACH;FMTTYPE=image/png:https://bethtzedec.ca/wp-content/uploads/2025/07/elul-challenge-20251.png
END:VEVENT
BEGIN:VEVENT
DTSTART;TZID=America/Denver:20250908T170000
DTEND;TZID=America/Denver:20250908T180000
DTSTAMP:20260423T210216
CREATED:20250801T165243Z
LAST-MODIFIED:20260226T162319Z
UID:10001594-1757350800-1757354400@bethtzedec.ca
SUMMARY:Judaism 201
DESCRIPTION:Ready to go deeper in your Jewish learning? Judaism 201 is an adult education series with Rabbi Russ designed for those who want to explore the richness of our heritage and religious tradition. \nThis year’s program will guide learners through some of Judaism’s most fascinating texts and practices\, including Sefer Yetzirah (The Book of Formation)\, an introduction to Talmud\, Sefer Bahir (The Book of Illumination)\, and an introduction to Jewish prayer. Whether you’re looking to strengthen your knowledge\, engage with timeless wisdom\, or connect more deeply with Jewish life\, Judaism 201 offers a meaningful path forward. \nKindly register in advance so that we know you’re coming! \n\n                \n                        \n                            Judaism 201 Registration\n                             \n                        \n                        Name(Required)\n                            \n                            \n                                                    \n                                                    First\n                                                \n                            \n                            \n                                                    \n                                                    Last\n                                                \n                            \n                        Email(Required)\n                            \n                        Phone(Required)Are you a current Beth Tzedec member?(Required)\n			\n					\n					Yes\, my membership is current for the 2025-26 year.\n			\n			\n					\n					No\, I'm not a current Beth Tzedec member.\n			Non-Member Tuition\n					\n					\n						Price:\n						\n					\n					\n				There is NO CHARGE for members to participate in these exciting classes. But if Jewish learning is a priority to you\, please consider making an optional donation to help support programs like this at Beth Tzedec.(Required)\n			\n					\n					Yes\, I would like to help support educational programs at Beth Tzedec.\n			\n			\n					\n					Not today\, but maybe another time.\n			Thank you for your support! How much would you like to contribute?(Required)\n			\n					\n					$18\n			\n			\n					\n					$36\n			\n			\n					\n					$54\n			\n			\n					\n					I would like to choose my own contribution amount.\n			How much would you like to contribute?\n					\n				Total
URL:https://bethtzedec.ca/event/judaism-201-2/2025-09-08/
LOCATION:Beth Tzedec
CATEGORIES:General Events
END:VEVENT
BEGIN:VEVENT
DTSTART;TZID=America/Denver:20250913T190000
DTEND;TZID=America/Denver:20250913T210000
DTSTAMP:20260423T210216
CREATED:20250630T174252Z
LAST-MODIFIED:20250630T174252Z
UID:10001585-1757790000-1757797200@bethtzedec.ca
SUMMARY:Selichot Study Session & Dessert
DESCRIPTION:Begin the High Holiday season with prayers of reflection and repentance\, brought to life with special holiday melodies. Join us on a Saturday evening as we prepare our hearts for the High Holy Days. The evening begins at 7:00pm with a thoughtful study session and a sweet dessert reception\, followed by Havdalah at 8:15pm. We’ll conclude with the moving Selichot service at 8:30pm\, setting the spiritual tone for the Days of Awe. All are welcome. \nUse the form below to register for the Study Session & Dessert\, to ensure there are enough sweet treats for everyone to enjoy. \n\n                \n                        \n                            Selichot Registration\n                             \n                        \n                        Name(Required)\n                            \n                            \n                                                    \n                                                    First\n                                                \n                            \n                            \n                                                    \n                                                    Last\n                                                \n                            \n                        Email(Required)\n                            \n                        Phone(Required)How many attendees would you like to register? Quantity(Required)\n					\n					\n						Price:\n						$ 0.00 CAD\n					\n					\n					 Quantity \n				Does anyone in your party have any dietary or allergy concerns that we should know about?There is NO CHARGE to attend this program. But if holiday celebrations like this are important to you\, please consider making a donation to support similar events at Beth Tzedec.\n			\n					\n					Yes\, I would like to make a contribution to support holiday programs at Beth Tzedec.\n			\n			\n					\n					Not today\, but maybe another time.\n			Thank you for your support! How much would you like to contribute?\n			\n					\n					$18\n			\n			\n					\n					$36\n			\n			\n					\n					$54\n			\n			\n					\n					I would like to choose my own contribution amount.\n			How much would you like to contribute?\n					\n				Total
URL:https://bethtzedec.ca/event/selichot-study-session-dessert/
LOCATION:Beth Tzedec
CATEGORIES:General Events
END:VEVENT
END:VCALENDAR