BEGIN:VCALENDAR
VERSION:2.0
PRODID:-//Beth Tzedec Congregation - ECPv6.15.17//NONSGML v1.0//EN
CALSCALE:GREGORIAN
METHOD:PUBLISH
X-ORIGINAL-URL:https://bethtzedec.ca
X-WR-CALDESC:Events for Beth Tzedec Congregation
REFRESH-INTERVAL;VALUE=DURATION:PT1H
X-Robots-Tag:noindex
X-PUBLISHED-TTL:PT1H
BEGIN:VTIMEZONE
TZID:America/Denver
BEGIN:DAYLIGHT
TZOFFSETFROM:-0700
TZOFFSETTO:-0600
TZNAME:MDT
DTSTART:20240310T090000
END:DAYLIGHT
BEGIN:STANDARD
TZOFFSETFROM:-0600
TZOFFSETTO:-0700
TZNAME:MST
DTSTART:20241103T080000
END:STANDARD
BEGIN:DAYLIGHT
TZOFFSETFROM:-0700
TZOFFSETTO:-0600
TZNAME:MDT
DTSTART:20250309T090000
END:DAYLIGHT
BEGIN:STANDARD
TZOFFSETFROM:-0600
TZOFFSETTO:-0700
TZNAME:MST
DTSTART:20251102T080000
END:STANDARD
BEGIN:DAYLIGHT
TZOFFSETFROM:-0700
TZOFFSETTO:-0600
TZNAME:MDT
DTSTART:20260308T090000
END:DAYLIGHT
BEGIN:STANDARD
TZOFFSETFROM:-0600
TZOFFSETTO:-0700
TZNAME:MST
DTSTART:20261101T080000
END:STANDARD
END:VTIMEZONE
BEGIN:VEVENT
DTSTART;TZID=America/Denver:20250904T080000
DTEND;TZID=America/Denver:20250904T090000
DTSTAMP:20260423T193408
CREATED:20250722T195411Z
LAST-MODIFIED:20250723T142939Z
UID:10001589-1756972800-1756976400@bethtzedec.ca
SUMMARY:Elul Challenge: Unpacking Emet v’Emunah
DESCRIPTION:Conservative Judaism\, as a movement\, has only issued one statement of principles over its 100+ year history. Join Rabbi Russ before morning services throughout Elul as he helps us understand the foundational principles of our movement\, and what it means to identify with the Conservative/Masorti Judaism. \nWe will be meeting on: \n\nMonday\, August 25\nThursday\, August 28\nThursday\, September 4\nMonday\, September 8\nMonday\, September 15\nThursday\, September 18\n\n\n\n                \n                        \n                            Elul Challenge\n                             \n                        \n                        Name(Required)\n                            \n                            \n                                                    \n                                                    First\n                                                \n                            \n                            \n                                                    \n                                                    Last\n                                                \n                            \n                        Email(Required)\n                            \n                        Phone(Required)Are you a current Beth Tzedec member?(Required)\n			\n					\n					Yes\, my membership is current for the 2024-25 year.\n			\n			\n					\n					No\, I am not a current Beth Tzedec member.\n			\n					\n					\n						Price:\n						\n					\n					\n				There is NO CHARGE to participate in Beth Tzedec's Elul Challenge. But if programs like this are a priority for you\, please consider making a donation to support similar initiatives in the future.(Required)\n			\n					\n					Yes\, I would like to make a contribution to support Beth Tzedec.\n			\n			\n					\n					Not today\, but maybe another time.\n			Thank you for your support! How much would you like to contribute?\n			\n					\n					$18\n			\n			\n					\n					$36\n			\n			\n					\n					$54\n			\n			\n					\n					I would like to choose my own amount.\n			How much would you like to contribute?
URL:https://bethtzedec.ca/event/elul-challenge-unpacking-emet-vemunah/2025-09-04/
LOCATION:Beth Tzedec
CATEGORIES:General Events
ATTACH;FMTTYPE=image/png:https://bethtzedec.ca/wp-content/uploads/2025/07/elul-challenge-20251.png
END:VEVENT
BEGIN:VEVENT
DTSTART;TZID=America/Denver:20250905T173000
DTEND;TZID=America/Denver:20250905T203000
DTSTAMP:20260423T193408
CREATED:20250904T191718Z
LAST-MODIFIED:20250904T191718Z
UID:10001618-1757093400-1757104200@bethtzedec.ca
SUMMARY:Family Shabbat Dinner
DESCRIPTION:Bring your whole family together for an unforgettable Friday night filled with music\, laughter\, and community spirit! \nAt 5:30pm\, jump into an interactive Shabbat service with singing\, games\, and stories that will have kids (and grown-ups!) smiling from ear to ear. Then at 6:00pm\, we’ll gather around the table for a mouthwatering\, shul-cooked dinner—because Shabbat tastes better when we share it together. \nMore than a meal\, it’s a night of connection\, joy\, and Shabbat magic. \nRegistration for this dinner has now closed. We look forward to seeing you in November!
URL:https://bethtzedec.ca/event/family-shabbat-dinner-4/
LOCATION:Beth Tzedec
CATEGORIES:General Events
ATTACH;FMTTYPE=image/png:https://bethtzedec.ca/wp-content/uploads/2023/07/family-shabbat-dinner1.png
END:VEVENT
END:VCALENDAR