BEGIN:VCALENDAR
VERSION:2.0
PRODID:-//Beth Tzedec Congregation - ECPv6.15.17//NONSGML v1.0//EN
CALSCALE:GREGORIAN
METHOD:PUBLISH
X-ORIGINAL-URL:https://bethtzedec.ca
X-WR-CALDESC:Events for Beth Tzedec Congregation
REFRESH-INTERVAL;VALUE=DURATION:PT1H
X-Robots-Tag:noindex
X-PUBLISHED-TTL:PT1H
BEGIN:VTIMEZONE
TZID:America/Denver
BEGIN:DAYLIGHT
TZOFFSETFROM:-0700
TZOFFSETTO:-0600
TZNAME:MDT
DTSTART:20240310T090000
END:DAYLIGHT
BEGIN:STANDARD
TZOFFSETFROM:-0600
TZOFFSETTO:-0700
TZNAME:MST
DTSTART:20241103T080000
END:STANDARD
BEGIN:DAYLIGHT
TZOFFSETFROM:-0700
TZOFFSETTO:-0600
TZNAME:MDT
DTSTART:20250309T090000
END:DAYLIGHT
BEGIN:STANDARD
TZOFFSETFROM:-0600
TZOFFSETTO:-0700
TZNAME:MST
DTSTART:20251102T080000
END:STANDARD
BEGIN:DAYLIGHT
TZOFFSETFROM:-0700
TZOFFSETTO:-0600
TZNAME:MDT
DTSTART:20260308T090000
END:DAYLIGHT
BEGIN:STANDARD
TZOFFSETFROM:-0600
TZOFFSETTO:-0700
TZNAME:MST
DTSTART:20261101T080000
END:STANDARD
END:VTIMEZONE
BEGIN:VEVENT
DTSTART;TZID=America/Denver:20250824T090000
DTEND;TZID=America/Denver:20250824T120000
DTSTAMP:20260423T210108
CREATED:20250725T164651Z
LAST-MODIFIED:20250821T145048Z
UID:10001593-1756026000-1756036800@bethtzedec.ca
SUMMARY:Rosh Hodesh Elul: A Women’s Gathering of Renewal
DESCRIPTION:Calling all women of Beth Tzedec! Step into the sacred season of Elul with intention\, community\, and heart. Join us on Sunday\, August 24 for a special Rosh Hodesh celebration as we welcome a new month and begin our spiritual journey toward the High Holidays. \nOur morning begins with a Shacharit service at 9:00 AM\, followed by a meaningful Rosh Chodesh program with Rabbi Ilana\, and a light brunch. Through prayer\, meditation\, Torah study\, chanting\, poetry\, and song\, we’ll reflect\, reconnect\, and ready our souls for the Days of Awe. \nAccording to tradition\, Rosh Hodesh has long held special significance for Jewish women. In reward for refusing to contribute to the building of the Golden Calf\, the women of Israel were gifted this holiday—a monthly moment of rest and spiritual renewal. Join us in honouring this legacy and embracing the power of Elul together. \nRegistration for this event closes on Thursday\, August 21. \n\n\n                \n                        \n                            Rosh Hodesh Elul\n                             \n                        \n                        Name(Required)\n                            \n                            \n                                                    \n                                                    First\n                                                \n                            \n                            \n                                                    \n                                                    Last\n                                                \n                            \n                        Email(Required)\n                            \n                        Phone(Required)Are you a current Beth Tzedec member?(Required)\n			\n					\n					Yes\, my membership is current for the 2024-25 year.\n			\n			\n					\n					No\, I am not a current Beth Tzedec member.\n			Do you have any dietary or allergy concerns that we should know about?Price\n					\n					\n						Price:\n						\n					\n					\n				There is NO CHARGE to participate in this event. But if programs like this are a priority for you\, please consider making a donation to support similar initiatives in the future.(Required)\n			\n					\n					Yes\, I would like to make a contribution to support Beth Tzedec.\n			\n			\n					\n					Not today\, but maybe another time.\n			Thank you for your support! How much would you like to contribute?\n			\n					\n					$18\n			\n			\n					\n					$36\n			\n			\n					\n					$54\n			\n			\n					\n					I would like to choose my own amount.\n			How much would you like to contribute?
URL:https://bethtzedec.ca/event/rosh-hodesh-elul-a-womens-gathering-of-renewal/
LOCATION:Beth Tzedec
CATEGORIES:General Events
ATTACH;FMTTYPE=image/png:https://bethtzedec.ca/wp-content/uploads/2025/07/rosh-hodesh-elul.png
END:VEVENT
BEGIN:VEVENT
DTSTART;TZID=America/Denver:20250825T080000
DTEND;TZID=America/Denver:20250825T090000
DTSTAMP:20260423T210108
CREATED:20250722T195411Z
LAST-MODIFIED:20250723T142939Z
UID:10001587-1756108800-1756112400@bethtzedec.ca
SUMMARY:Elul Challenge: Unpacking Emet v’Emunah
DESCRIPTION:Conservative Judaism\, as a movement\, has only issued one statement of principles over its 100+ year history. Join Rabbi Russ before morning services throughout Elul as he helps us understand the foundational principles of our movement\, and what it means to identify with the Conservative/Masorti Judaism. \nWe will be meeting on: \n\nMonday\, August 25\nThursday\, August 28\nThursday\, September 4\nMonday\, September 8\nMonday\, September 15\nThursday\, September 18\n\n\n                \n                        \n                            Elul Challenge\n                             \n                        \n                        Name(Required)\n                            \n                            \n                                                    \n                                                    First\n                                                \n                            \n                            \n                                                    \n                                                    Last\n                                                \n                            \n                        Email(Required)\n                            \n                        Phone(Required)Are you a current Beth Tzedec member?(Required)\n			\n					\n					Yes\, my membership is current for the 2024-25 year.\n			\n			\n					\n					No\, I am not a current Beth Tzedec member.\n			\n					\n					\n						Price:\n						\n					\n					\n				There is NO CHARGE to participate in Beth Tzedec's Elul Challenge. But if programs like this are a priority for you\, please consider making a donation to support similar initiatives in the future.(Required)\n			\n					\n					Yes\, I would like to make a contribution to support Beth Tzedec.\n			\n			\n					\n					Not today\, but maybe another time.\n			Thank you for your support! How much would you like to contribute?\n			\n					\n					$18\n			\n			\n					\n					$36\n			\n			\n					\n					$54\n			\n			\n					\n					I would like to choose my own amount.\n			How much would you like to contribute?
URL:https://bethtzedec.ca/event/elul-challenge-unpacking-emet-vemunah/2025-08-25/
LOCATION:Beth Tzedec
CATEGORIES:General Events
ATTACH;FMTTYPE=image/png:https://bethtzedec.ca/wp-content/uploads/2025/07/elul-challenge-20251.png
END:VEVENT
BEGIN:VEVENT
DTSTART;TZID=America/Denver:20250828T080000
DTEND;TZID=America/Denver:20250828T090000
DTSTAMP:20260423T210108
CREATED:20250722T195411Z
LAST-MODIFIED:20250723T142939Z
UID:10001588-1756368000-1756371600@bethtzedec.ca
SUMMARY:Elul Challenge: Unpacking Emet v’Emunah
DESCRIPTION:Conservative Judaism\, as a movement\, has only issued one statement of principles over its 100+ year history. Join Rabbi Russ before morning services throughout Elul as he helps us understand the foundational principles of our movement\, and what it means to identify with the Conservative/Masorti Judaism. \nWe will be meeting on: \n\nMonday\, August 25\nThursday\, August 28\nThursday\, September 4\nMonday\, September 8\nMonday\, September 15\nThursday\, September 18\n\n\n                \n                        \n                            Elul Challenge\n                             \n                        \n                        Name(Required)\n                            \n                            \n                                                    \n                                                    First\n                                                \n                            \n                            \n                                                    \n                                                    Last\n                                                \n                            \n                        Email(Required)\n                            \n                        Phone(Required)Are you a current Beth Tzedec member?(Required)\n			\n					\n					Yes\, my membership is current for the 2024-25 year.\n			\n			\n					\n					No\, I am not a current Beth Tzedec member.\n			\n					\n					\n						Price:\n						\n					\n					\n				There is NO CHARGE to participate in Beth Tzedec's Elul Challenge. But if programs like this are a priority for you\, please consider making a donation to support similar initiatives in the future.(Required)\n			\n					\n					Yes\, I would like to make a contribution to support Beth Tzedec.\n			\n			\n					\n					Not today\, but maybe another time.\n			Thank you for your support! How much would you like to contribute?\n			\n					\n					$18\n			\n			\n					\n					$36\n			\n			\n					\n					$54\n			\n			\n					\n					I would like to choose my own amount.\n			How much would you like to contribute?
URL:https://bethtzedec.ca/event/elul-challenge-unpacking-emet-vemunah/2025-08-28/
LOCATION:Beth Tzedec
CATEGORIES:General Events
ATTACH;FMTTYPE=image/png:https://bethtzedec.ca/wp-content/uploads/2025/07/elul-challenge-20251.png
END:VEVENT
END:VCALENDAR