BEGIN:VCALENDAR
VERSION:2.0
PRODID:-//Beth Tzedec Congregation - ECPv6.15.17//NONSGML v1.0//EN
CALSCALE:GREGORIAN
METHOD:PUBLISH
X-ORIGINAL-URL:https://bethtzedec.ca
X-WR-CALDESC:Events for Beth Tzedec Congregation
REFRESH-INTERVAL;VALUE=DURATION:PT1H
X-Robots-Tag:noindex
X-PUBLISHED-TTL:PT1H
BEGIN:VTIMEZONE
TZID:America/Denver
BEGIN:DAYLIGHT
TZOFFSETFROM:-0700
TZOFFSETTO:-0600
TZNAME:MDT
DTSTART:20240310T090000
END:DAYLIGHT
BEGIN:STANDARD
TZOFFSETFROM:-0600
TZOFFSETTO:-0700
TZNAME:MST
DTSTART:20241103T080000
END:STANDARD
BEGIN:DAYLIGHT
TZOFFSETFROM:-0700
TZOFFSETTO:-0600
TZNAME:MDT
DTSTART:20250309T090000
END:DAYLIGHT
BEGIN:STANDARD
TZOFFSETFROM:-0600
TZOFFSETTO:-0700
TZNAME:MST
DTSTART:20251102T080000
END:STANDARD
BEGIN:DAYLIGHT
TZOFFSETFROM:-0700
TZOFFSETTO:-0600
TZNAME:MDT
DTSTART:20260308T090000
END:DAYLIGHT
BEGIN:STANDARD
TZOFFSETFROM:-0600
TZOFFSETTO:-0700
TZNAME:MST
DTSTART:20261101T080000
END:STANDARD
END:VTIMEZONE
BEGIN:VEVENT
DTSTART;TZID=America/Denver:20250706T120000
DTEND;TZID=America/Denver:20250706T140000
DTSTAMP:20260423T232426
CREATED:20250610T195154Z
LAST-MODIFIED:20250705T110615Z
UID:10001583-1751803200-1751810400@bethtzedec.ca
SUMMARY:Congregant Appreciation BBQ
DESCRIPTION:Join us for our Congregant Appreciation BBQ as we celebrate you—the heart of our community! Enjoy a delicious BBQ lunch and the chance to connect with friends old and new. It’s our way of saying thank you for all you do to support our congregation. Please don’t forget to BYOL – bring your own lawn chair! \nRegistration for our Congregant Appreciation BBQ has now closed. \n\n\n                \n                        \n                            Congregant Appreciation BBQ\n                             \n                        \n                        Name\n                            \n                            \n                                                    \n                                                    First\n                                                \n                            \n                            \n                                                    \n                                                    Last\n                                                \n                            \n                        Email\n                            \n                        PhoneHow many Beth Tzedec congregants would you like to register? Quantity(Required)\n					\n					\n						Price:\n						$ 0.00 CAD\n					\n					\n					 Quantity \n				How many GUESTS would you like to register? Quantity(Required)\n					\n					\n						Price:\n						$ 20.00 CAD\n					\n					\n					 Quantity \n				Please list everyone you're registering for this event\, including the names and ages of any children or teens.Does anyone in your party have any dietary or allergy concerns that we should know about?There is NO CHARGE to attend this event. But if community events like this are a priority for you\, please consider making a donation to support Beth Tzedec programming and events.(Required)\n			\n					\n					Yes\, I would like to make a contribution to support Beth Tzedec.\n			\n			\n					\n					Not today\, but maybe another time.\n			Thank you for your support! How much would you like to contribute?\n			\n					\n					$18\n			\n			\n					\n					$36\n			\n			\n					\n					$54\n			\n			\n					\n					I would like to choose my own contribution amount.\n			How much would you like to contribute?\n					\n				Total
URL:https://bethtzedec.ca/event/congregant-appreciation-bbq/
LOCATION:Beth Tzedec
CATEGORIES:General Events
END:VEVENT
END:VCALENDAR