BEGIN:VCALENDAR
VERSION:2.0
PRODID:-//Beth Tzedec Congregation - ECPv6.15.17//NONSGML v1.0//EN
CALSCALE:GREGORIAN
METHOD:PUBLISH
X-WR-CALNAME:Beth Tzedec Congregation
X-ORIGINAL-URL:https://bethtzedec.ca
X-WR-CALDESC:Events for Beth Tzedec Congregation
REFRESH-INTERVAL;VALUE=DURATION:PT1H
X-Robots-Tag:noindex
X-PUBLISHED-TTL:PT1H
BEGIN:VTIMEZONE
TZID:America/Denver
BEGIN:DAYLIGHT
TZOFFSETFROM:-0700
TZOFFSETTO:-0600
TZNAME:MDT
DTSTART:20240310T090000
END:DAYLIGHT
BEGIN:STANDARD
TZOFFSETFROM:-0600
TZOFFSETTO:-0700
TZNAME:MST
DTSTART:20241103T080000
END:STANDARD
BEGIN:DAYLIGHT
TZOFFSETFROM:-0700
TZOFFSETTO:-0600
TZNAME:MDT
DTSTART:20250309T090000
END:DAYLIGHT
BEGIN:STANDARD
TZOFFSETFROM:-0600
TZOFFSETTO:-0700
TZNAME:MST
DTSTART:20251102T080000
END:STANDARD
BEGIN:DAYLIGHT
TZOFFSETFROM:-0700
TZOFFSETTO:-0600
TZNAME:MDT
DTSTART:20260308T090000
END:DAYLIGHT
BEGIN:STANDARD
TZOFFSETFROM:-0600
TZOFFSETTO:-0700
TZNAME:MST
DTSTART:20261101T080000
END:STANDARD
END:VTIMEZONE
BEGIN:VEVENT
DTSTART;TZID=America/Denver:20251001T184500
DTEND;TZID=America/Denver:20251001T191500
DTSTAMP:20260423T162835
CREATED:20250919T162243Z
LAST-MODIFIED:20250919T162243Z
UID:10001664-1759344300-1759346100@bethtzedec.ca
SUMMARY:Family Kol Nidre Service
DESCRIPTION:Join Rabbi Ilana for a sweet and meaningful Kol Nidre Service for families. Kol Nidre will be chanted along with a brief service complete with a story\, songs\, and age-appropriate prayers. \nSuitable for families and their children 10 years of age and under. High Holiday tickets required.
URL:https://bethtzedec.ca/event/family-kol-nidre-service/
LOCATION:Beth Tzedec
CATEGORIES:General Events
END:VEVENT
BEGIN:VEVENT
DTSTART;TZID=America/Denver:20251005T100000
DTEND;TZID=America/Denver:20251005T120000
DTSTAMP:20260423T162835
CREATED:20250916T010733Z
LAST-MODIFIED:20250916T010733Z
UID:10001662-1759658400-1759665600@bethtzedec.ca
SUMMARY:Smoothies in the Sukkah
DESCRIPTION:Beth Tzedec and PJ Library are teaming up for our annual Sukkot celebration! Join us for crafts\, stories\, songs and delicious smoothies. \nClick here to register.
URL:https://bethtzedec.ca/event/smoothies-in-the-sukkah/
LOCATION:Beth Tzedec
CATEGORIES:General Events
END:VEVENT
BEGIN:VEVENT
DTSTART;TZID=America/Denver:20251005T190000
DTEND;TZID=America/Denver:20251005T203000
DTSTAMP:20260423T162835
CREATED:20250916T010934Z
LAST-MODIFIED:20250926T151651Z
UID:10001663-1759690800-1759696200@bethtzedec.ca
SUMMARY:October 7 Commemoration: Community Gathering for Reflection & Resilience
DESCRIPTION:Join us for a powerful and meaningful gathering to honour the lives lost and forever changed by the tragic events of October 7. The evening will also include the screening of The New Jew: Days of War. This free event is presented in partnership with Calgary Jewish Federation\, Beth Tzedec Calgary Jewish Film Festival and the Paperny Family JCC. \nClick here to register. \n 
URL:https://bethtzedec.ca/event/october-7-commemoration-community-gathering-for-reflection-resilience/
LOCATION:Beth Tzedec
CATEGORIES:General Events
END:VEVENT
BEGIN:VEVENT
DTSTART;TZID=America/Denver:20251006T180000
DTEND;TZID=America/Denver:20251006T193000
DTSTAMP:20260423T162835
CREATED:20250912T185152Z
LAST-MODIFIED:20250926T152612Z
UID:10001657-1759773600-1759779000@bethtzedec.ca
SUMMARY:Pizza in the Hut
DESCRIPTION:Join a delicious celebration of Sukkot at our annual “Pizza in the Hut” event! Embracing the festive spirit of Sukkot\, we invite you to gather as a community to share a pizza feast in our beautifully decorated sukkah. \nRegistration closes Friday\, October 3. \n\n\n                \n                        \n                            Pizza in the Hut Registration\n                             \n                        \n                        Name(Required)\n                            \n                            \n                                                    \n                                                    First\n                                                \n                            \n                            \n                                                    \n                                                    Last\n                                                \n                            \n                        Email(Required)\n                            \n                        Phone(Required)\nAttendee Information\nHow many ADULT (13+) CONGREGANTS would you like to register? Quantity\n					\n					\n						Price:\n						$ 15.00 CAD\n					\n					\n					 Quantity \n				Please share the name(s) of each adult congregant that you are registering.How many ADULT (13+) GUESTS would you like to register? Quantity\n					\n					\n						Price:\n						$ 20.00 CAD\n					\n					\n					 Quantity \n				Please share the name(s) of each adult guest that you are registering.\n\nHow many CONGREGANT CHILDREN (Ages 5-12) would you like to register? Quantity\n					\n					\n						Price:\n						$ 10.00 CAD\n					\n					\n					 Quantity \n				Please share the name(s) and age(s) of each congregant aged 5-12 that you are registering.How many GUEST CHILDREN (ages 5-12) would you like to register? Quantity\n					\n					\n						Price:\n						$ 15.00 CAD\n					\n					\n					 Quantity \n				Please share the name(s) and age(s) of each guest aged 5-12 that you are registering.\n\nHow many YOUNG CHILDREN (ages 4 and under) would you like to register? Quantity\n					\n					\n						Price:\n						$ 0.00 CAD\n					\n					\n					 Quantity \n				Please share the name(s) and age(s) of each guest 4 and under that you are registering.\n\nDoes anyone in your party have any dietary concerns that we should know about?\n\n\nSupporting Family Events\n\nEvents like this are a critical part of bringing our community together\, but they wouldn't be possible without the support of our members and guests. Would you like to make an OPTIONAL donation to help support family programs at Beth Tzedec?\n			\n					\n					Yes\, I would like to help support family programs at Beth Tzedec.\n			\n			\n					\n					Not today\, but maybe another time.\n			Thank you for your support! How much would you like to contribute?\n			\n					\n					$18\n			\n			\n					\n					$36\n			\n			\n					\n					$54\n			\n			\n					\n					I would like to choose my own contribution amount.\n			How much would you like to contribute?\n					\n				Total
URL:https://bethtzedec.ca/event/pizza-in-the-hut/
LOCATION:Beth Tzedec
CATEGORIES:General Events
END:VEVENT
BEGIN:VEVENT
DTSTART;TZID=America/Denver:20251014T180000
DTEND;TZID=America/Denver:20251014T200000
DTSTAMP:20260423T162835
CREATED:20250915T224855Z
LAST-MODIFIED:20250916T010403Z
UID:10001661-1760464800-1760472000@bethtzedec.ca
SUMMARY:Simchat Torah Celebration
DESCRIPTION:6:00pm Service | 7:00pm Reception \nShare a sweet and joyous celebration as we mark the conclusion of the annual Torah reading cycle with a Simchat Torah event and reception. With a special activity for kids\, we’ll rejoice together as we conclude the annual cycle of Torah readings and embark on a new year of learning\, growth\, and inspiration! \n\n                \n                        \n                            Simchat Torah Celebration\n                             \n                        \n                        Name(Required)\n                            \n                            \n                                                    \n                                                    First\n                                                \n                            \n                            \n                                                    \n                                                    Last\n                                                \n                            \n                        Email(Required)\n                            \n                        PhoneNumber of Adults Quantity(Required)\n					\n					\n						Price:\n						$ 0.00 CAD\n					\n					\n					 Quantity \n				Number of Children Quantity\n					\n					\n						Price:\n						$ 0.00 CAD\n					\n					\n					 Quantity \n				Please tell us about the children who will be attending.NameAgeGrade    Add   RemoveClick the plus sign to the right of this field to add spaces for more children.\nSupporting Jewish Community\n\nEvents like this are a critical part of bringing our community together\, but they wouldn't be possible without the support of our members and guests. There is no charge to join us for Simchat Torah\, but please consider making an OPTIONAL donation to help support Jewish community at Beth Tzedec.(Required)\n			\n					\n					Yes\, I would like to help support Jewish community at Beth Tzedec.\n			\n			\n					\n					Not today\, but maybe another time.\n			Thank you for your support! How much would you like to contribute?(Required)\n			\n					\n					$18\n			\n			\n					\n					$36\n			\n			\n					\n					$54\n			\n			\n					\n					I would like to select my own contribution amount.\n			How much would you like to contribute?
URL:https://bethtzedec.ca/event/simchat-torah-celebration/
LOCATION:Beth Tzedec
CATEGORIES:General Events
END:VEVENT
BEGIN:VEVENT
DTSTART;TZID=America/Denver:20251027T170000
DTEND;TZID=America/Denver:20251027T180000
DTSTAMP:20260423T162835
CREATED:20250801T165243Z
LAST-MODIFIED:20260226T162319Z
UID:10001596-1761584400-1761588000@bethtzedec.ca
SUMMARY:Judaism 201
DESCRIPTION:Ready to go deeper in your Jewish learning? Judaism 201 is an adult education series with Rabbi Russ designed for those who want to explore the richness of our heritage and religious tradition. \nThis year’s program will guide learners through some of Judaism’s most fascinating texts and practices\, including Sefer Yetzirah (The Book of Formation)\, an introduction to Talmud\, Sefer Bahir (The Book of Illumination)\, and an introduction to Jewish prayer. Whether you’re looking to strengthen your knowledge\, engage with timeless wisdom\, or connect more deeply with Jewish life\, Judaism 201 offers a meaningful path forward. \nKindly register in advance so that we know you’re coming! \n\n                \n                        \n                            Judaism 201 Registration\n                             \n                        \n                        Name(Required)\n                            \n                            \n                                                    \n                                                    First\n                                                \n                            \n                            \n                                                    \n                                                    Last\n                                                \n                            \n                        Email(Required)\n                            \n                        Phone(Required)Are you a current Beth Tzedec member?(Required)\n			\n					\n					Yes\, my membership is current for the 2025-26 year.\n			\n			\n					\n					No\, I'm not a current Beth Tzedec member.\n			Non-Member Tuition\n					\n					\n						Price:\n						\n					\n					\n				There is NO CHARGE for members to participate in these exciting classes. But if Jewish learning is a priority to you\, please consider making an optional donation to help support programs like this at Beth Tzedec.(Required)\n			\n					\n					Yes\, I would like to help support educational programs at Beth Tzedec.\n			\n			\n					\n					Not today\, but maybe another time.\n			Thank you for your support! How much would you like to contribute?(Required)\n			\n					\n					$18\n			\n			\n					\n					$36\n			\n			\n					\n					$54\n			\n			\n					\n					I would like to choose my own contribution amount.\n			How much would you like to contribute?\n					\n				Total
URL:https://bethtzedec.ca/event/judaism-201-2/2025-10-27/
LOCATION:Beth Tzedec
CATEGORIES:General Events
END:VEVENT
BEGIN:VEVENT
DTSTART;TZID=America/Denver:20251030T193000
DTEND;TZID=America/Denver:20251030T210000
DTSTAMP:20260423T162835
CREATED:20250831T151935Z
LAST-MODIFIED:20250831T153633Z
UID:10001650-1761852600-1761858000@bethtzedec.ca
SUMMARY:What's Rabbi Reading? The Beth Tzedec Book Club
DESCRIPTION:Join us each month at Masala Art for lively conversation\, good company\, and great food as we explore Jewish literature together. The Beth Tzedec Book Club is open to all who love reading and discussing stories\, history\, and ideas through a Jewish lens. \nOur October session will feature Forbidden: A 3\,000-Year History of Jews and the Pig by Jordan D. Rosenblum. This fascinating work traces how Jewish communities across time and place have wrestled with the symbolism and meaning of the pig\, offering insights into food\, identity\, and cultural boundaries. \nUpcoming books to be considered will be: \n\nThe Gates of Gaza – Amir Tibon\nThe Madwoman in the Rabbi’s Attic: Rereading the Women of the Talmud – Gila Fine\nThe Safekeep – Yael van der Wouden\nNight Owls – A. R. Vishny\nBurning Girls and Other Stories – Veronica Schanoes\nSongs for the Brokenhearted: A Novel – Ayelet Tsabari\nThe Last Dekrepitzer – Howard Langer\nMelting Point – Rachel Cockerell\n\nCome ready to share your thoughts\, enjoy delicious cuisine\, and connect with fellow readers in our community. The first round of drinks is on us! \n\n                \n                        \n                            Book Club Registration\n                            Please register once for each session you plan to join. \n                        \n                        Name(Required)\n                            \n                            \n                                                    \n                                                    First\n                                                \n                            \n                            \n                                                    \n                                                    Last\n                                                \n                            \n                        Email(Required)\n                            \n                        Phone(Required)There is NO CHARGE to join Beth Tzedec's Book Club. But if Jewish learning is a priority to you\, please consider making an optional donation to help support programs like this at Beth Tzedec.(Required)\n			\n					\n					Yes\, I would like to help support learning programs at Beth Tzedec.\n			\n			\n					\n					Not today\, but maybe another time.\n			Thank you for your support! How much would you like to contribute?(Required)\n			\n					\n					$18\n			\n			\n					\n					$36\n			\n			\n					\n					$54\n			\n			\n					\n					I would like to choose my own contribution amount.\n			Price(Required)
URL:https://bethtzedec.ca/event/whats-rabbi-reading-the-beth-tzedec-book-club/
LOCATION:Masala Art\, 2515 90 Ave SW #123\, Calgary\, Alberta\, T2V 0L7\, Canada
CATEGORIES:General Events
END:VEVENT
END:VCALENDAR